BEGIN:VCALENDAR
VERSION:2.0
PRODID:-//Arts Alliance Davis - ECPv6.15.20//NONSGML v1.0//EN
CALSCALE:GREGORIAN
METHOD:PUBLISH
X-ORIGINAL-URL:https://artsalliancedavis.org
X-WR-CALDESC:Events for Arts Alliance Davis
REFRESH-INTERVAL;VALUE=DURATION:PT1H
X-Robots-Tag:noindex
X-PUBLISHED-TTL:PT1H
BEGIN:VTIMEZONE
TZID:America/Los_Angeles
BEGIN:DAYLIGHT
TZOFFSETFROM:-0800
TZOFFSETTO:-0700
TZNAME:PDT
DTSTART:20250309T100000
END:DAYLIGHT
BEGIN:STANDARD
TZOFFSETFROM:-0700
TZOFFSETTO:-0800
TZNAME:PST
DTSTART:20251102T090000
END:STANDARD
BEGIN:DAYLIGHT
TZOFFSETFROM:-0800
TZOFFSETTO:-0700
TZNAME:PDT
DTSTART:20260308T100000
END:DAYLIGHT
BEGIN:STANDARD
TZOFFSETFROM:-0700
TZOFFSETTO:-0800
TZNAME:PST
DTSTART:20261101T090000
END:STANDARD
BEGIN:DAYLIGHT
TZOFFSETFROM:-0800
TZOFFSETTO:-0700
TZNAME:PDT
DTSTART:20270314T100000
END:DAYLIGHT
BEGIN:STANDARD
TZOFFSETFROM:-0700
TZOFFSETTO:-0800
TZNAME:PST
DTSTART:20271107T090000
END:STANDARD
END:VTIMEZONE
BEGIN:VEVENT
DTSTART;TZID=America/Los_Angeles:20260531T100000
DTEND;TZID=America/Los_Angeles:20260531T140000
DTSTAMP:20260423T184316
CREATED:20260414T204437Z
LAST-MODIFIED:20260414T204437Z
UID:24808-1780221600-1780236000@artsalliancedavis.org
SUMMARY:Botanical Blueprints with Linda Clark Johnson
DESCRIPTION:Botanical Blueprints with Linda Clark Johnson\nSunday\, May 31\, 10 AM – 2 PM\n$115 Members | $125 Non-Members\n(All materials included except for flowers and foliage\, which participants should bring) \nYou don’t need to be an artist to enjoy making beautiful blue cyanotypes! In this introductory class with artist Linda Clark Johnson\, you’ll learn all the basics of this fun and easy alternative photographic technique. Using light-sensitive chemicals\, you’ll expose prints of plants in the sun and process them in water. By the time you leave\, you’ll have 4 gorgeous 8 x 10” blueprints and the know-how to create more at home. \nRegister here: https://pencegallery.org/education/programs/workshops-and-classes/ \nAny questions? Email pencegallery@gmail.com.
URL:https://artsalliancedavis.org/event/botanical-blueprints-with-linda-clark-johnson-2/
LOCATION:Pence Gallery\, 212 D St\, Davis\, CA\, United States
CATEGORIES:Art
ATTACH;FMTTYPE=image/jpeg:https://artsalliancedavis.org/wp-content/uploads/2026/04/For-workshop-Linda-Clark-Johnson-HwmOXv.jpg
ORGANIZER;CN="Pence Gallery":MAILTO:pencesocialmedia@gmail.com
END:VEVENT
END:VCALENDAR