BEGIN:VCALENDAR
VERSION:2.0
PRODID:-//Arts Alliance Davis - ECPv6.15.20//NONSGML v1.0//EN
CALSCALE:GREGORIAN
METHOD:PUBLISH
X-WR-CALNAME:Arts Alliance Davis
X-ORIGINAL-URL:https://artsalliancedavis.org
X-WR-CALDESC:Events for Arts Alliance Davis
REFRESH-INTERVAL;VALUE=DURATION:PT1H
X-Robots-Tag:noindex
X-PUBLISHED-TTL:PT1H
BEGIN:VTIMEZONE
TZID:America/Los_Angeles
BEGIN:DAYLIGHT
TZOFFSETFROM:-0800
TZOFFSETTO:-0700
TZNAME:PDT
DTSTART:20230312T100000
END:DAYLIGHT
BEGIN:STANDARD
TZOFFSETFROM:-0700
TZOFFSETTO:-0800
TZNAME:PST
DTSTART:20231105T090000
END:STANDARD
BEGIN:DAYLIGHT
TZOFFSETFROM:-0800
TZOFFSETTO:-0700
TZNAME:PDT
DTSTART:20240310T100000
END:DAYLIGHT
BEGIN:STANDARD
TZOFFSETFROM:-0700
TZOFFSETTO:-0800
TZNAME:PST
DTSTART:20241103T090000
END:STANDARD
BEGIN:DAYLIGHT
TZOFFSETFROM:-0800
TZOFFSETTO:-0700
TZNAME:PDT
DTSTART:20250309T100000
END:DAYLIGHT
BEGIN:STANDARD
TZOFFSETFROM:-0700
TZOFFSETTO:-0800
TZNAME:PST
DTSTART:20251102T090000
END:STANDARD
END:VTIMEZONE
BEGIN:VEVENT
DTSTART;TZID=America/Los_Angeles:20241103T190000
DTEND;TZID=America/Los_Angeles:20241103T213000
DTSTAMP:20260424T172841
CREATED:20241031T135144Z
LAST-MODIFIED:20241031T135144Z
UID:15914-1730660400-1730669400@artsalliancedavis.org
SUMMARY:Double Headliner Concert Featuring Los Mundos & The Snares | Sudwerk
DESCRIPTION:Sudwerk Brewing Co. is thrilled to announce an epic night of live music with a double headliner show featuring Los Mundos and The Snares on November 3\, 2024. This 21+ event will take place in the Sudwerk Beer Hall\, with the show starting at 7:00 PM. Tickets are available now for $15\, so grab yours before they sell out! \nOpening the evening will be Rabbit and Xoce Roman. \nAbout Los Mundos\nHailing from Monterrey\, Mexico\, Los Mundos is a psych-rock powerhouse known for their mesmerizing blend of fuzzed-out bass lines and riff-heavy guitar\, drawing inspiration from artists like the Beach Boys\, the Jesus and Mary Chain\, and the dark worlds of H.P. Lovecraft. Their sound is a perfect balance of dreamlike melodies and raw energy. \nAbout The Snares\nSacramento’s own The Snares will bring their eclectic mix of psych-rock\, garage\, pop\, and post-punk to the stage. The band\, consisting of Izzie Gomez\, Lukas Brodie\, Casey Smith\, and Julian Paz\, is known for their energetic performances and genre-defying sound that promises to leave the audience wanting more. \nEvent Details\nWhere: Sudwerk Brewing Co. (2001 2nd St\, Davis\, CA)\nWhen: Sunday\, November 3\, 2024\nDoors: 6:00 PM\nTickets: $15 (21+ Show) \nBuy Tickets: https://bit.ly/4e0EvrS \nOpening Acts: Rabbit & Xoce Roman \nJoin them for an incredible night of live music\, craft beer\, and great vibes. For more information\, visit Sudwerk’s website or follow them on Instagram and Facebook @sudwerkbrew. \nAbout Sudwerk Brewing Co.\nSudwerk Brewing Co.\, located in Davis\, CA\, is a craft brewery known for its award-winning lagers\, innovative brews\, and community-centered events. Since 1989\, Sudwerk has been a proud part of the Davis community\, offering locals and visitors alike a welcoming space for great beer\, food\, and live entertainment.
URL:https://artsalliancedavis.org/event/double-headliner-concert-featuring-los-mundos-the-snares-sudwerk/
LOCATION:Sudwerk Brewing Co.\, 2001 2nd St\, Davis\, CA\, 95618\, United States
CATEGORIES:Music
ATTACH;FMTTYPE=image/jpeg:https://artsalliancedavis.org/wp-content/uploads/2024/10/4x5-Los-Mundos-and-the-Snares-vqc0Fo.tmp_.jpg
END:VEVENT
BEGIN:VEVENT
DTSTART;VALUE=DATE:20241116
DTEND;VALUE=DATE:20241117
DTSTAMP:20260424T172841
CREATED:20241107T163801Z
LAST-MODIFIED:20241107T163801Z
UID:15964-1731715200-1731801599@artsalliancedavis.org
SUMMARY:Crankin’ the Wild West
DESCRIPTION:Rocknasium’s annual bouldering competition\, Crankin’\, is back! Each year this event gets bigger and grander- with free food & refreshments\, and awesome climbs and prizes. This year’s theme is Crankin’ the Wild West. We will be partnering with The Boneyard Davis who will be hosting a craft fair in our parking lot throughout the competition. \nCATEGORIES:\n\nMen’s & Women’s Recreational = V2 max\nMen’s & Women’s Intermediate = V5 max\nMen’s & Women’s Advanced = V6 & up\nGirl’s & Boy’s – 12 years old and under\nMasters – 40 years old and over\nNon-Binary – Open Level\n\nSCHEDULE:\n\nClimbers meeting at 11:45 AM\nMasters\, Advanced\, Recreational\, Kids\, Non-Binary: 12 – 3 PM\nFood – 3:15 PM\nClimbers meeting at 3:15 PM\nIntermediate\, Non-Binary & Kids: 3:30 – 6:30 PM\nFood – 6:45 PM\nFINALS: 7:30 PM – Awards follow immediately after!
URL:https://artsalliancedavis.org/event/crankin-the-wild-west/
LOCATION:Rocknasium the Climbing Gym\, 720 Olive Drive\, Suite S\, Davis\, 95616\, United States
CATEGORIES:Athletics,Community,Fitness,Shopping
ATTACH;FMTTYPE=image/png:https://artsalliancedavis.org/wp-content/uploads/2024/11/crankin-logo-qBaCNd.tmp_.png
END:VEVENT
END:VCALENDAR