BEGIN:VCALENDAR
VERSION:2.0
PRODID:-//Arts Alliance Davis - ECPv6.15.20//NONSGML v1.0//EN
CALSCALE:GREGORIAN
METHOD:PUBLISH
X-WR-CALNAME:Arts Alliance Davis
X-ORIGINAL-URL:https://artsalliancedavis.org
X-WR-CALDESC:Events for Arts Alliance Davis
REFRESH-INTERVAL;VALUE=DURATION:PT1H
X-Robots-Tag:noindex
X-PUBLISHED-TTL:PT1H
BEGIN:VTIMEZONE
TZID:America/Los_Angeles
BEGIN:DAYLIGHT
TZOFFSETFROM:-0800
TZOFFSETTO:-0700
TZNAME:PDT
DTSTART:20240310T100000
END:DAYLIGHT
BEGIN:STANDARD
TZOFFSETFROM:-0700
TZOFFSETTO:-0800
TZNAME:PST
DTSTART:20241103T090000
END:STANDARD
BEGIN:DAYLIGHT
TZOFFSETFROM:-0800
TZOFFSETTO:-0700
TZNAME:PDT
DTSTART:20250309T100000
END:DAYLIGHT
BEGIN:STANDARD
TZOFFSETFROM:-0700
TZOFFSETTO:-0800
TZNAME:PST
DTSTART:20251102T090000
END:STANDARD
BEGIN:DAYLIGHT
TZOFFSETFROM:-0800
TZOFFSETTO:-0700
TZNAME:PDT
DTSTART:20260308T100000
END:DAYLIGHT
BEGIN:STANDARD
TZOFFSETFROM:-0700
TZOFFSETTO:-0800
TZNAME:PST
DTSTART:20261101T090000
END:STANDARD
END:VTIMEZONE
BEGIN:VEVENT
DTSTART;TZID=America/Los_Angeles:20250517T180000
DTEND;TZID=America/Los_Angeles:20250517T200000
DTSTAMP:20260424T081903
CREATED:20250503T230929Z
LAST-MODIFIED:20250503T230929Z
UID:19308-1747504800-1747512000@artsalliancedavis.org
SUMMARY:Alaskan Indie Music: Ashley Young with Heart Machine @ The Blue Rose
DESCRIPTION:Join us for a house concert with traveling indie bands from Alaska in our beautiful backyard in Woodland! Just below the Arctic Circle\, in the heart of her Ancestral land in Alaska\, songwriter Ashley Young captivates with her fiery\, lush vocals. From whispered confessions to powerful\, soaring belting\, her dynamic performances are best described as “journal rock\,” where every note tells a personal story. Her melodies can silence a room\, while her laughter fills it with life. The Blue Rose is proud to be a stop on her fourth west coast tour. Ashley is the 2023 winner of the LIFT Award from the Native Arts & Cultures Foundation. She and her band have shared the stage with acclaimed acts like Australian future soul band Hiatus Kaiyote\, Grammy Award-winners Portugal. The Man\, and Medium Build. They’ve also graced the main stages of Áak’w Rock Indigenous Music Festival and Sundown Solstice Festival. With every performance\, Ashley continues to shine a spotlight on Alaska’s vibrant independent music scene. More about Ashley’s music here: https://ashleyyoungmusic.com/music/. Ashley will be joined by the acoustic Alaskan band Heart Machine. This is a rare opportunity to see these artists perform in a very intimate and comfortable setting in our backyard. As always\, ticket includes a complimentary light meal. Wine and beer for guests over 21. It’s basically just a party at our house where we chip in to support great music. Come on over! \n  \n$25 general donation\, $15 students
URL:https://artsalliancedavis.org/event/alaskan-indie-music-ashley-young-with-heart-machine-the-blue-rose/
LOCATION:The Blue Rose\, WOODLAND\, CA\, 95616\, United States
CATEGORIES:Music
ATTACH;FMTTYPE=image/jpeg:https://artsalliancedavis.org/wp-content/uploads/2025/05/flyer-template-2-RTEqgU.tmp_.jpg
ORGANIZER;CN="Erica Cefalo":MAILTO:emcefalo@ucdavis.edu
END:VEVENT
BEGIN:VEVENT
DTSTART;TZID=America/Los_Angeles:20250530T180000
DTEND;TZID=America/Los_Angeles:20250530T220000
DTSTAMP:20260424T081903
CREATED:20250419T192822Z
LAST-MODIFIED:20250419T192822Z
UID:19039-1748628000-1748642400@artsalliancedavis.org
SUMMARY:Rainbow City Park @ Tri Coops
DESCRIPTION:Velvet Red Productions presents Rainbow City Park\, Carport\, Quarter Conscious\, and Topeka Clementine \nIndie rock show at the Tri Coops (550 Regan Hall Circle\, Davis) \nAll Ages \n$15 NOTAFLOF \n  \n 
URL:https://artsalliancedavis.org/event/rainbow-city-park-tri-coops/
LOCATION:Tri Coops\, 550 Regan Hall Circle\, Davis\, C\, 95616\, United States
CATEGORIES:Art,Community,Music
ATTACH;FMTTYPE=image/jpeg:https://artsalliancedavis.org/wp-content/uploads/2018/10/orange-white-aad-logo.jpg
ORGANIZER;CN="rainbow city park":MAILTO:rainbowcitypark@gmail.com
END:VEVENT
END:VCALENDAR