BEGIN:VCALENDAR
VERSION:2.0
PRODID:-//Arts Alliance Davis - ECPv6.15.20//NONSGML v1.0//EN
CALSCALE:GREGORIAN
METHOD:PUBLISH
X-ORIGINAL-URL:https://artsalliancedavis.org
X-WR-CALDESC:Events for Arts Alliance Davis
REFRESH-INTERVAL;VALUE=DURATION:PT1H
X-Robots-Tag:noindex
X-PUBLISHED-TTL:PT1H
BEGIN:VTIMEZONE
TZID:America/Los_Angeles
BEGIN:DAYLIGHT
TZOFFSETFROM:-0800
TZOFFSETTO:-0700
TZNAME:PDT
DTSTART:20250309T100000
END:DAYLIGHT
BEGIN:STANDARD
TZOFFSETFROM:-0700
TZOFFSETTO:-0800
TZNAME:PST
DTSTART:20251102T090000
END:STANDARD
BEGIN:DAYLIGHT
TZOFFSETFROM:-0800
TZOFFSETTO:-0700
TZNAME:PDT
DTSTART:20260308T100000
END:DAYLIGHT
BEGIN:STANDARD
TZOFFSETFROM:-0700
TZOFFSETTO:-0800
TZNAME:PST
DTSTART:20261101T090000
END:STANDARD
BEGIN:DAYLIGHT
TZOFFSETFROM:-0800
TZOFFSETTO:-0700
TZNAME:PDT
DTSTART:20270314T100000
END:DAYLIGHT
BEGIN:STANDARD
TZOFFSETFROM:-0700
TZOFFSETTO:-0800
TZNAME:PST
DTSTART:20271107T090000
END:STANDARD
END:VTIMEZONE
BEGIN:VEVENT
DTSTART;TZID=America/Los_Angeles:20260306T190000
DTEND;TZID=America/Los_Angeles:20260306T230000
DTSTAMP:20260423T151331
CREATED:20260215T172318Z
LAST-MODIFIED:20260215T172318Z
UID:23767-1772823600-1772838000@artsalliancedavis.org
SUMMARY:Rainbow City Park (Music Video Shoot)\, Field Daze\, and Seven Asterisk
DESCRIPTION:Rainbow City Park will be filming their live set that will be included in their upcoming music video release. They will be joined by their out of town friends Field Daze (LA) and Seven Asterisk (Fresno). \n  \n$12 pre; $18 door
URL:https://artsalliancedavis.org/event/rainbow-city-park-music-video-shoot-field-daze-and-seven-asterisk/
LOCATION:Sudwerk Brewing Co  2001 2nd Street  Davis\, CA 95618\, 2001 2nd Street\, Davis\, CA\, 95618\, United States
CATEGORIES:Music
ATTACH;FMTTYPE=image/jpeg:https://artsalliancedavis.org/wp-content/uploads/2018/10/orange-white-aad-logo.jpg
ORGANIZER;CN="rainbow city park":MAILTO:rainbowcitypark@gmail.com
END:VEVENT
BEGIN:VEVENT
DTSTART;TZID=America/Los_Angeles:20260321T200000
DTEND;TZID=America/Los_Angeles:20260321T220000
DTSTAMP:20260423T151331
CREATED:20260309T230620Z
LAST-MODIFIED:20260309T230620Z
UID:24154-1774123200-1774130400@artsalliancedavis.org
SUMMARY:Internationally acclaimed Davis musician Dave Nachmanoff to showcase new album music at Watermelon Music
DESCRIPTION:Internationally acclaimed musician and Davis\, California local\, Dave Nachmanoff\, will be playing a concert at The Melon Ball at Watermelon Music showcasing new music from his new album to be recorded in New York later this year. \nDave Nachmanoff is making a comeback after his eighth album\, Cerulean Sky\, was released seven years ago featuring a lineup of renowned names including seasoned LA session players Michael Jerome on drums\, Taras Prodaniuk on bass\, and Carl Byron on keyboards. The album will be recorded in New York City and the Catskills\, with Scott Petito producing and some fantastic New York based studio musicians on board. \nAn acclaimed musician\, singer-songwriter\, and multi-instrumentalist\, Dave Nachmanoff is known for his masterful guitar work\, rich storytelling\, and dynamic performances\, combining the philosophical with the down-to-earth in his unique style of philosophical folk-rock. \nA longtime collaborator of folk-rock legend Al Stewart\, Dave has captivated audiences worldwide with his virtuosity and deep musical sensibilities\, from intimate living room concerts to the Royal Albert Hall – all backed by a Ph.D. in Philosophy from UC Davis. \nHis insightful and empathetic lyrics create rich and meaningful stories capturing different perspectives to create an unforgettable live experience\, and a unique opportunity to be comforted yet simultaneously transported and transformed. \nThe music from his new album centers on the theme of family\, both his own and others. While much of the music from this album is inspired by Dave’s own experiences with family\, he touches on the core of a very universal experience by capturing the colorful ups and downs of this theme. From a child\, to a partner\, to a parent\, to an outside observer\, this album offers a unique yet familiar take on this theme in a warm and compassionate way that many can relate to\, characterized by Nachmanoff’s captivating style of storytelling. \nHis March 21st show at 8 pm at The Melon Ball at Watermelon Music in Davis\, California will be an intimate solo acoustic concert showcasing some of Nachmanoff’s newest material\, and is a unique opportunity to connect with the artist\, share opinions on the music\, and hear music that has never been recorded\, before he travels to the East Coast to begin the recording process. \nTickets are $25 in advance and $30 at the door and are being sold at watermelonmusic.com. To learn more about Dave and his music\, go to his website davenach.com.
URL:https://artsalliancedavis.org/event/internationally-acclaimed-davis-musician-dave-nachmanoff-to-showcase-new-album-music-at-watermelon-music/
LOCATION:Melon Ball – Watermelon Music\, 1970 Lake Blvd\, Suite #1\, Davis\, California\, 95616\, United States
CATEGORIES:Music
ATTACH;FMTTYPE=image/jpeg:https://artsalliancedavis.org/wp-content/uploads/2026/03/Dave-Nachmanoff-Press-Release-300-dpi-scaled-arT6Ug.jpg
END:VEVENT
END:VCALENDAR