BEGIN:VCALENDAR
VERSION:2.0
PRODID:-//Arts Alliance Davis - ECPv6.15.20//NONSGML v1.0//EN
CALSCALE:GREGORIAN
METHOD:PUBLISH
X-ORIGINAL-URL:https://artsalliancedavis.org
X-WR-CALDESC:Events for Arts Alliance Davis
REFRESH-INTERVAL;VALUE=DURATION:PT1H
X-Robots-Tag:noindex
X-PUBLISHED-TTL:PT1H
BEGIN:VTIMEZONE
TZID:America/Los_Angeles
BEGIN:DAYLIGHT
TZOFFSETFROM:-0800
TZOFFSETTO:-0700
TZNAME:PDT
DTSTART:20240310T100000
END:DAYLIGHT
BEGIN:STANDARD
TZOFFSETFROM:-0700
TZOFFSETTO:-0800
TZNAME:PST
DTSTART:20241103T090000
END:STANDARD
BEGIN:DAYLIGHT
TZOFFSETFROM:-0800
TZOFFSETTO:-0700
TZNAME:PDT
DTSTART:20250309T100000
END:DAYLIGHT
BEGIN:STANDARD
TZOFFSETFROM:-0700
TZOFFSETTO:-0800
TZNAME:PST
DTSTART:20251102T090000
END:STANDARD
BEGIN:DAYLIGHT
TZOFFSETFROM:-0800
TZOFFSETTO:-0700
TZNAME:PDT
DTSTART:20260308T100000
END:DAYLIGHT
BEGIN:STANDARD
TZOFFSETFROM:-0700
TZOFFSETTO:-0800
TZNAME:PST
DTSTART:20261101T090000
END:STANDARD
END:VTIMEZONE
BEGIN:VEVENT
DTSTART;TZID=America/Los_Angeles:20251101T083000
DTEND;TZID=America/Los_Angeles:20251101T230000
DTSTAMP:20260424T133142
CREATED:20251030T192039Z
LAST-MODIFIED:20251030T192039Z
UID:21887-1761985800-1762038000@artsalliancedavis.org
SUMMARY:Pacific Coast OrigamiUSA Conference 2025
DESCRIPTION:Get Ready to Fold\, Create\, and Connect! The Pacific Coast OrigamiUSA Conference is back and bigger than ever—mark your calendars for October 31–November 2! This incredible 3-day event is your ultimate destination if you love origami\, from simple folds to mind-blowing complexity. The Davis Origami Group is the local host. \nWhat Awaits You:\nA Warm Welcome: Kick things off with a friendly welcome session for all attendees. \nInspiration from the Best: Two exclusive presentations from each of our incredible special guests. \nHands-On Fun: Over 3 days of classes for every level—from total beginners to origami masters! Dive into: \nModel folding \nAdvanced techniques \nEngaging lectures \nOrigami Like You’ve Never Seen: Be amazed by world-class exhibits showcasing breathtaking creations. \nScore Rare Treasures: Browse the silent auction packed with hard-to-find and one-of-a-kind items\n.\nFold with the Stars: Rub elbows with renowned origami designers—and future legends. \n(Optional) Grand Finale Tour: Cap it all off with a scenic post-conference tour of historic Sutter’s Mill in Gold Country near Sacramento. \nExhibition is Open to the Public – Saturday & Sunday (10 AM–4 PM): \nStop by the Exhibition and Sales Area—free and open to all! Discover stunning origami displays and even try your hand at folding at our fun and friendly public folding table. \nDon’t just watch—fold with us! Join a vibrant community of creators\, artists\, and curious minds. Whether you’re new to origami or a seasoned folder\, this is the event that will spark your imagination and deepen your passion. Detailed information about how to join this event is on our website! \nLet the folding begin!
URL:https://artsalliancedavis.org/event/pacific-coast-origamiusa-conference-2025-2/
LOCATION:Sheraton Grand Hotel\, 1230 J St\, Sacramento\, CA\, 95814\, United States
CATEGORIES:Art,Bring the Kids,Community
ATTACH;FMTTYPE=image/png:https://artsalliancedavis.org/wp-content/uploads/2025/10/Pacific-Coast-OrigamiUSA-Conference-2025-OrigamiUSA-at-Sheraton-Grand-Hotel-Sacramento-CA-Festivals.jpeg-eoayGC.png
ORGANIZER;CN="Origami USA":MAILTO:pcoc-registration@origamiusa.org
END:VEVENT
BEGIN:VEVENT
DTSTART;TZID=America/Los_Angeles:20251102T083000
DTEND;TZID=America/Los_Angeles:20251102T230000
DTSTAMP:20260424T133142
CREATED:20251030T192054Z
LAST-MODIFIED:20251030T192054Z
UID:21888-1762072200-1762124400@artsalliancedavis.org
SUMMARY:Pacific Coast OrigamiUSA Conference 2025
DESCRIPTION:Get Ready to Fold\, Create\, and Connect! The Pacific Coast OrigamiUSA Conference is back and bigger than ever—mark your calendars for October 31–November 2! This incredible 3-day event is your ultimate destination if you love origami\, from simple folds to mind-blowing complexity. The Davis Origami Group is the local host. \nWhat Awaits You:\nA Warm Welcome: Kick things off with a friendly welcome session for all attendees. \nInspiration from the Best: Two exclusive presentations from each of our incredible special guests. \nHands-On Fun: Over 3 days of classes for every level—from total beginners to origami masters! Dive into: \nModel folding \nAdvanced techniques \nEngaging lectures \nOrigami Like You’ve Never Seen: Be amazed by world-class exhibits showcasing breathtaking creations. \nScore Rare Treasures: Browse the silent auction packed with hard-to-find and one-of-a-kind items\n.\nFold with the Stars: Rub elbows with renowned origami designers—and future legends. \n(Optional) Grand Finale Tour: Cap it all off with a scenic post-conference tour of historic Sutter’s Mill in Gold Country near Sacramento. \nExhibition is Open to the Public – Saturday & Sunday (10 AM–4 PM): \nStop by the Exhibition and Sales Area—free and open to all! Discover stunning origami displays and even try your hand at folding at our fun and friendly public folding table. \nDon’t just watch—fold with us! Join a vibrant community of creators\, artists\, and curious minds. Whether you’re new to origami or a seasoned folder\, this is the event that will spark your imagination and deepen your passion. Detailed information about how to join this event is on our website! \nLet the folding begin!
URL:https://artsalliancedavis.org/event/pacific-coast-origamiusa-conference-2025-3/
LOCATION:Sheraton Grand Hotel\, 1230 J St\, Sacramento\, CA\, 95814\, United States
CATEGORIES:Art,Bring the Kids,Community
ATTACH;FMTTYPE=image/png:https://artsalliancedavis.org/wp-content/uploads/2025/10/Pacific-Coast-OrigamiUSA-Conference-2025-OrigamiUSA-at-Sheraton-Grand-Hotel-Sacramento-CA-Festivals.jpeg-eoayGC.png
ORGANIZER;CN="Origami USA":MAILTO:pcoc-registration@origamiusa.org
END:VEVENT
END:VCALENDAR