BEGIN:VCALENDAR
VERSION:2.0
PRODID:-//Arts Alliance Davis - ECPv6.15.20//NONSGML v1.0//EN
CALSCALE:GREGORIAN
METHOD:PUBLISH
X-WR-CALNAME:Arts Alliance Davis
X-ORIGINAL-URL:https://artsalliancedavis.org
X-WR-CALDESC:Events for Arts Alliance Davis
REFRESH-INTERVAL;VALUE=DURATION:PT1H
X-Robots-Tag:noindex
X-PUBLISHED-TTL:PT1H
BEGIN:VTIMEZONE
TZID:America/Los_Angeles
BEGIN:DAYLIGHT
TZOFFSETFROM:-0800
TZOFFSETTO:-0700
TZNAME:PDT
DTSTART:20250309T100000
END:DAYLIGHT
BEGIN:STANDARD
TZOFFSETFROM:-0700
TZOFFSETTO:-0800
TZNAME:PST
DTSTART:20251102T090000
END:STANDARD
BEGIN:DAYLIGHT
TZOFFSETFROM:-0800
TZOFFSETTO:-0700
TZNAME:PDT
DTSTART:20260308T100000
END:DAYLIGHT
BEGIN:STANDARD
TZOFFSETFROM:-0700
TZOFFSETTO:-0800
TZNAME:PST
DTSTART:20261101T090000
END:STANDARD
BEGIN:DAYLIGHT
TZOFFSETFROM:-0800
TZOFFSETTO:-0700
TZNAME:PDT
DTSTART:20270314T100000
END:DAYLIGHT
BEGIN:STANDARD
TZOFFSETFROM:-0700
TZOFFSETTO:-0800
TZNAME:PST
DTSTART:20271107T090000
END:STANDARD
END:VTIMEZONE
BEGIN:VEVENT
DTSTART;VALUE=DATE:20260214
DTEND;VALUE=DATE:20260215
DTSTAMP:20260423T203358
CREATED:20260213T163409Z
LAST-MODIFIED:20260213T163409Z
UID:23702-1771027200-1771113599@artsalliancedavis.org
SUMMARY:Enrollment Opens for Little Coyotes Forest Kinder 2026-2027
DESCRIPTION:Join us for another year of Little Coyotes Forest Kinder\, a land-based program for ages 3-6 that meets outdoors in nature year-round\, rain or shine\, with locations in Davis (South Fork Preserve)\, Sacramento (William B. Pond area) and Folsom Lake. \nThis program creates a nurturing and gentle transition for children who are taking their first steps beyond the familiar comforts of home. We provide a supportive environment where they can begin to explore and engage with the natural world around them\, encouraging a sense of curiosity\, independence\, and confidence in their early learning journey. \nOur educational approach revolves around fostering a deep connection between children and the natural world. Throughout the day\, our Forest Mentors and children engage in collaborative learning experiences that are rooted in our local environment. We believe deeply in a child-led approach to education\, one that meets children where they are in their development and comfort zones and then allows them to bloom and grow through their connection with nature. There is a lot of playing\, exploration\, and singing. We have a seasonal curriculum\, a collection of activities\, books\, and crafts that support social-emotional literacy\, creative expression\, and critical thinking skills.
URL:https://artsalliancedavis.org/event/enrollment-opens-for-little-coyotes-forest-kinder-2026-2027/
CATEGORIES:Bring the Kids,Community,Outside
ATTACH;FMTTYPE=image/png:https://artsalliancedavis.org/wp-content/uploads/2026/02/Little-Coyotes-Forest-Kinder-Registration2026-4yWbVp.png
ORGANIZER;CN="Davis Forest School":MAILTO:programs@davisforestschool.org
END:VEVENT
BEGIN:VEVENT
DTSTART;TZID=America/Los_Angeles:20260214T080000
DTEND;TZID=America/Los_Angeles:20260227T170000
DTSTAMP:20260423T203358
CREATED:20260213T163439Z
LAST-MODIFIED:20260213T163439Z
UID:23705-1771056000-1772211600@artsalliancedavis.org
SUMMARY:Art Play
DESCRIPTION:Art Play is a joyful invitation to creative play and sensory exploration. Instead of a rigid craft\, we provide open-ended prompts—like squishy clay or vibrant paints—and let your child’s wonder lead the way. In our studio\, “the mess” is the masterpiece. \nWith no “correct” result\, your little artist is free to explore at their own pace and build confidence through pure discovery. \nCreative Play with a Purpose\nIt’s not just fun; it’s brain-building. Studies have proven that engaging in the arts helps build critical thinking\, problem solving\, social emotional\, and fine motor skills during this vital developmental window—all through play.
URL:https://artsalliancedavis.org/event/art-play/
LOCATION:the Atelier\, 2118 19th st\, Sacramento\, CA\, 95818\, United States
CATEGORIES:Art
ATTACH;FMTTYPE=image/png:https://artsalliancedavis.org/wp-content/uploads/2026/02/the-Atelier-Black-Logo-2-scaled-7eV0BR.png
END:VEVENT
END:VCALENDAR