BEGIN:VCALENDAR
VERSION:2.0
PRODID:-//Arts Alliance Davis - ECPv6.15.20//NONSGML v1.0//EN
CALSCALE:GREGORIAN
METHOD:PUBLISH
X-WR-CALNAME:Arts Alliance Davis
X-ORIGINAL-URL:https://artsalliancedavis.org
X-WR-CALDESC:Events for Arts Alliance Davis
REFRESH-INTERVAL;VALUE=DURATION:PT1H
X-Robots-Tag:noindex
X-PUBLISHED-TTL:PT1H
BEGIN:VTIMEZONE
TZID:America/Los_Angeles
BEGIN:DAYLIGHT
TZOFFSETFROM:-0800
TZOFFSETTO:-0700
TZNAME:PDT
DTSTART:20240310T100000
END:DAYLIGHT
BEGIN:STANDARD
TZOFFSETFROM:-0700
TZOFFSETTO:-0800
TZNAME:PST
DTSTART:20241103T090000
END:STANDARD
BEGIN:DAYLIGHT
TZOFFSETFROM:-0800
TZOFFSETTO:-0700
TZNAME:PDT
DTSTART:20250309T100000
END:DAYLIGHT
BEGIN:STANDARD
TZOFFSETFROM:-0700
TZOFFSETTO:-0800
TZNAME:PST
DTSTART:20251102T090000
END:STANDARD
BEGIN:DAYLIGHT
TZOFFSETFROM:-0800
TZOFFSETTO:-0700
TZNAME:PDT
DTSTART:20260308T100000
END:DAYLIGHT
BEGIN:STANDARD
TZOFFSETFROM:-0700
TZOFFSETTO:-0800
TZNAME:PST
DTSTART:20261101T090000
END:STANDARD
END:VTIMEZONE
BEGIN:VEVENT
DTSTART;TZID=America/Los_Angeles:20250502T113000
DTEND;TZID=America/Los_Angeles:20250629T170000
DTSTAMP:20260424T042403
CREATED:20250405T115302Z
LAST-MODIFIED:20250405T115302Z
UID:18795-1746185400-1751216400@artsalliancedavis.org
SUMMARY:Tiny Show
DESCRIPTION:Tiny Show \nExhibit: May 2 – June 29\, 2025 \nReception: May 9\, 6 – 9 PM \n  \nThe Tiny Show is back at the Pence\, featuring 5 x 7” works of art by more than 40 local and regional artists. Ranging from serious to whimsical\, these tiny artworks capture the creativity of Paula Bellacera\, Sue Bradford\, Linda Clark Johnson\, Janet Crittenden\, Jeff Downing\, Maryann Steinert-Foley\, and many others. \n  \nThe Pence Gallery is open 11:30 AM – 5 PM\, Tuesday through Sunday (closed Mondays). This exhibit is located upstairs in the Learning Center gallery. \n  \nImage: James Crandall\, Untitled
URL:https://artsalliancedavis.org/event/tiny-show-2/
LOCATION:Pence Gallery\, 212 D St\, Davis\, CA\, United States
CATEGORIES:Art
ATTACH;FMTTYPE=image/jpeg:https://artsalliancedavis.org/wp-content/uploads/2025/04/James-Crandall-Untitled-xPNoVI.tmp_.jpg
ORGANIZER;CN="Pence Gallery":MAILTO:pencesocialmedia@gmail.com
END:VEVENT
END:VCALENDAR