BEGIN:VCALENDAR
VERSION:2.0
PRODID:-//Arts Alliance Davis - ECPv6.15.20//NONSGML v1.0//EN
CALSCALE:GREGORIAN
METHOD:PUBLISH
X-WR-CALNAME:Arts Alliance Davis
X-ORIGINAL-URL:https://artsalliancedavis.org
X-WR-CALDESC:Events for Arts Alliance Davis
REFRESH-INTERVAL;VALUE=DURATION:PT1H
X-Robots-Tag:noindex
X-PUBLISHED-TTL:PT1H
BEGIN:VTIMEZONE
TZID:America/Los_Angeles
BEGIN:DAYLIGHT
TZOFFSETFROM:-0800
TZOFFSETTO:-0700
TZNAME:PDT
DTSTART:20250309T100000
END:DAYLIGHT
BEGIN:STANDARD
TZOFFSETFROM:-0700
TZOFFSETTO:-0800
TZNAME:PST
DTSTART:20251102T090000
END:STANDARD
BEGIN:DAYLIGHT
TZOFFSETFROM:-0800
TZOFFSETTO:-0700
TZNAME:PDT
DTSTART:20260308T100000
END:DAYLIGHT
BEGIN:STANDARD
TZOFFSETFROM:-0700
TZOFFSETTO:-0800
TZNAME:PST
DTSTART:20261101T090000
END:STANDARD
BEGIN:DAYLIGHT
TZOFFSETFROM:-0800
TZOFFSETTO:-0700
TZNAME:PDT
DTSTART:20270314T100000
END:DAYLIGHT
BEGIN:STANDARD
TZOFFSETFROM:-0700
TZOFFSETTO:-0800
TZNAME:PST
DTSTART:20271107T090000
END:STANDARD
END:VTIMEZONE
BEGIN:VEVENT
DTSTART;VALUE=DATE:20260313
DTEND;VALUE=DATE:20260427
DTSTAMP:20260423T113000
CREATED:20260205T141132Z
LAST-MODIFIED:20260205T141132Z
UID:23594-1773360000-1777247999@artsalliancedavis.org
SUMMARY:Barbara Prodaniuk: Myths in Mud
DESCRIPTION:Barbara Prodaniuk: Myths in Mud\nExhibit: March 13 – April 26\, 2026\nReception: Friday\, March 13\, 6-9 PM (free) \nBarbara Prodaniuk is a ceramic artist whose work is inspired by the forest\, meadows\, and waterways surrounding the Truckee area. She explores the stories carried by the creatures and artifacts found in these environments through layered surfaces\, organic textures\, and sculpted imagery. Her recent series of work is part of an ongoing dialogue with the natural world and illustrates how closely we are woven into the tapestry of the land and creatures around us. \nThis exhibit is sponsored by Kim Ohlson & Allen Barnes. \nThe Pence Gallery is open 11:30 AM – 5 PM\, Tuesday through Sunday (closed Mondays). \nImage: Barbara Prodaniuk\, “Raven Vase”
URL:https://artsalliancedavis.org/event/barbara-prodaniuk-myths-in-mud/
LOCATION:Pence Gallery\, 212 D St\, Davis\, CA\, United States
CATEGORIES:Art
ATTACH;FMTTYPE=image/jpeg:https://artsalliancedavis.org/wp-content/uploads/2026/02/Barbara-Prodaniuk-Raven-Vase-NXFLrA.jpg
ORGANIZER;CN="Pence Gallery":MAILTO:pencesocialmedia@gmail.com
END:VEVENT
BEGIN:VEVENT
DTSTART;VALUE=DATE:20260410
DTEND;VALUE=DATE:20260604
DTSTAMP:20260423T113000
CREATED:20260324T140715Z
LAST-MODIFIED:20260324T140715Z
UID:24418-1775779200-1780531199@artsalliancedavis.org
SUMMARY:The Abstract Language of Ceramics
DESCRIPTION:The Abstract Language of Ceramics\nExhibit: April 10 – June 3\, 2026\nReception: April 10\, 6-9 PM (Free) \nThe Abstract Language of Ceramics features the work of ceramic artists Karyn Gabriel\, Mark Goudy\, Kris Marubayashi\, Liza Riddle\, and Laura Van Duren. Together\, these artists create striking geometric and biomorphic forms that underline their pursuit of simple forms inspired by nature. Karyn Gabriel’s woven vessels and hangings merge the idea of fiber and weaving with the flexible nature of clay. Goudy’s current sculptures are modeled on mathematical equations\, which he adapts on the computer\, using new technology to design and create molded forms. Kris Marubayashi’s vessels have a sense of movement and balance\, and employ natural textures and an earth-toned palette. Liza Riddle’s modified cubes\, hanging plinths\, and circles use color sparingly to emphasize the beauty of cracks that form while drying. Laura Van Duren shows a playful incorporation of found objects\, textiles\, and clay\, closely resembling the corporal reality of human interaction. \nThis exhibit is sponsored by Hollie Malamud & Chris Kelsch\, and Helen McClosky\, in memory of ceramicist Shelly Simon. \nImage:\nLaura Van Duren\, “Curl”\nKris Marubayashi\, Untitled\nKaryn Gabriel\, “Aspen Brick”\nMark Goudy\, “Flux Series”\nLiza Riddle\, Untitled
URL:https://artsalliancedavis.org/event/the-abstract-language-of-ceramics/
LOCATION:Pence Gallery\, 212 D St\, Davis\, CA\, United States
CATEGORIES:Art
ATTACH;FMTTYPE=image/png:https://artsalliancedavis.org/wp-content/uploads/2026/03/Abstract-Language-of-Ceramics-wc7pZz.png
ORGANIZER;CN="Pence Gallery":MAILTO:pencesocialmedia@gmail.com
END:VEVENT
END:VCALENDAR