BEGIN:VCALENDAR
VERSION:2.0
PRODID:-//Arts Alliance Davis - ECPv6.15.20//NONSGML v1.0//EN
CALSCALE:GREGORIAN
METHOD:PUBLISH
X-ORIGINAL-URL:https://artsalliancedavis.org
X-WR-CALDESC:Events for Arts Alliance Davis
REFRESH-INTERVAL;VALUE=DURATION:PT1H
X-Robots-Tag:noindex
X-PUBLISHED-TTL:PT1H
BEGIN:VTIMEZONE
TZID:America/Los_Angeles
BEGIN:DAYLIGHT
TZOFFSETFROM:-0800
TZOFFSETTO:-0700
TZNAME:PDT
DTSTART:20240310T100000
END:DAYLIGHT
BEGIN:STANDARD
TZOFFSETFROM:-0700
TZOFFSETTO:-0800
TZNAME:PST
DTSTART:20241103T090000
END:STANDARD
BEGIN:DAYLIGHT
TZOFFSETFROM:-0800
TZOFFSETTO:-0700
TZNAME:PDT
DTSTART:20250309T100000
END:DAYLIGHT
BEGIN:STANDARD
TZOFFSETFROM:-0700
TZOFFSETTO:-0800
TZNAME:PST
DTSTART:20251102T090000
END:STANDARD
BEGIN:DAYLIGHT
TZOFFSETFROM:-0800
TZOFFSETTO:-0700
TZNAME:PDT
DTSTART:20260308T100000
END:DAYLIGHT
BEGIN:STANDARD
TZOFFSETFROM:-0700
TZOFFSETTO:-0800
TZNAME:PST
DTSTART:20261101T090000
END:STANDARD
END:VTIMEZONE
BEGIN:VEVENT
DTSTART;TZID=America/Los_Angeles:20250301T090000
DTEND;TZID=America/Los_Angeles:20250301T170000
DTSTAMP:20260424T211452
CREATED:20250209T195815Z
LAST-MODIFIED:20250209T195815Z
UID:17542-1740819600-1740848400@artsalliancedavis.org
SUMMARY:ASUCD Mental Health Conference 2025
DESCRIPTION:The Mental Health Initiative presents the 9th Annual Mental Health Conference\, held at UC Davis Conference Center (550 Alumni Lane\, Davis CA 95616) on March 1\, 2025 from 9am to 5pm. MHC is the LARGEST student-run mental health conference in California! Join us for an engaging and informative event focused on promoting mental health destigmatization\, education\, and advocacy. This in-person conference is FREE FOR ALL and features guest keynote speakers\, interactive workshops\, healing spaces\, caucuses\, and more! Register for the conference here! \n 
URL:https://artsalliancedavis.org/event/asucd-mental-health-conference-2025/
LOCATION:UC Davis Conference Center\, 550 Alumni Lane\, Davis\, 95616\, United States
CATEGORIES:Books & Talks,Community,Featured
ATTACH;FMTTYPE=image/png:https://artsalliancedavis.org/wp-content/uploads/2025/02/MHI_MHC_EventAnnoucement_JP_r3-RkX2Vq.tmp_.png
ORGANIZER;CN="ACUSD Mental Health Initiative":MAILTO:mentalhealth@asucd.ucdavis.edu
END:VEVENT
END:VCALENDAR