BEGIN:VCALENDAR
VERSION:2.0
PRODID:-//Arts Alliance Davis - ECPv6.15.20//NONSGML v1.0//EN
CALSCALE:GREGORIAN
METHOD:PUBLISH
X-ORIGINAL-URL:https://artsalliancedavis.org
X-WR-CALDESC:Events for Arts Alliance Davis
REFRESH-INTERVAL;VALUE=DURATION:PT1H
X-Robots-Tag:noindex
X-PUBLISHED-TTL:PT1H
BEGIN:VTIMEZONE
TZID:America/Los_Angeles
BEGIN:DAYLIGHT
TZOFFSETFROM:-0800
TZOFFSETTO:-0700
TZNAME:PDT
DTSTART:20240310T100000
END:DAYLIGHT
BEGIN:STANDARD
TZOFFSETFROM:-0700
TZOFFSETTO:-0800
TZNAME:PST
DTSTART:20241103T090000
END:STANDARD
BEGIN:DAYLIGHT
TZOFFSETFROM:-0800
TZOFFSETTO:-0700
TZNAME:PDT
DTSTART:20250309T100000
END:DAYLIGHT
BEGIN:STANDARD
TZOFFSETFROM:-0700
TZOFFSETTO:-0800
TZNAME:PST
DTSTART:20251102T090000
END:STANDARD
BEGIN:DAYLIGHT
TZOFFSETFROM:-0800
TZOFFSETTO:-0700
TZNAME:PDT
DTSTART:20260308T100000
END:DAYLIGHT
BEGIN:STANDARD
TZOFFSETFROM:-0700
TZOFFSETTO:-0800
TZNAME:PST
DTSTART:20261101T090000
END:STANDARD
END:VTIMEZONE
BEGIN:VEVENT
DTSTART;TZID=America/Los_Angeles:20250707T090000
DTEND;TZID=America/Los_Angeles:20250711T150000
DTSTAMP:20260424T110727
CREATED:20250412T151501Z
LAST-MODIFIED:20250412T151501Z
UID:18927-1751878800-1752246000@artsalliancedavis.org
SUMMARY:Art Explorers: All Day Summer Arts Camp Week 2: July 7-11
DESCRIPTION:Let’s make art! Join us for a week of art adventures\, friendship\, and fun during Summer break. Explore ceramics\, paper mache\, painting\, drawing\, and mixed media\, led by our amazing team of Teaching Artists. Camp Counselors will guide campers in fun camp activities and outdoor play. All materials are provided\, just bring a water bottle\, snack\, sunscreen and your creativity! \nPrice: $550 \nAGES 6 – 12\nMonday – Friday\, 9 am – 3 pm \nWeek 2: July 7-11
URL:https://artsalliancedavis.org/event/art-explorers-all-day-summer-arts-camp-week-2-july-7-11/
LOCATION:Davis Arts Center\, 1919 F St.
CATEGORIES:Art
ATTACH;FMTTYPE=image/jpeg:https://artsalliancedavis.org/wp-content/uploads/2025/04/DAC-Summer-camp-Feb25-1-VT5W7e.tmp_.jpg
ORGANIZER;CN="Davis Arts Center":MAILTO:office@davisartscenter.org
END:VEVENT
BEGIN:VEVENT
DTSTART;TZID=America/Los_Angeles:20250714T090000
DTEND;TZID=America/Los_Angeles:20250718T150000
DTSTAMP:20260424T110727
CREATED:20250419T193615Z
LAST-MODIFIED:20250419T193615Z
UID:19048-1752483600-1752850800@artsalliancedavis.org
SUMMARY:Art Explorers: All Day Summer Arts Camp Week 3: July 14-18
DESCRIPTION:Let’s make art! Join us for a week of art adventures\, friendship\, and fun during Summer break. Explore ceramics\, paper mache\, painting\, drawing\, and mixed media\, led by our amazing team of Teaching Artists. Camp Counselors will guide campers in fun camp activities and outdoor play. All materials are provided\, just bring a water bottle\, snack\, sunscreen and your creativity! \nPrice: $550 \nAGES 6 – 12\nMonday – Friday\, 9 am – 3 pm \nWeek 3: July 14-18
URL:https://artsalliancedavis.org/event/art-explorers-all-day-summer-arts-camp-week-3-july-14-18/
LOCATION:Davis Arts Center\, 1919 F St.
CATEGORIES:Art
ATTACH;FMTTYPE=image/jpeg:https://artsalliancedavis.org/wp-content/uploads/2025/04/DAC-Summer-camp-Feb25-2-FV12zV.tmp_.jpg
ORGANIZER;CN="Davis Arts Center":MAILTO:office@davisartscenter.org
END:VEVENT
BEGIN:VEVENT
DTSTART;TZID=America/Los_Angeles:20250714T133000
DTEND;TZID=America/Los_Angeles:20250718T153000
DTSTAMP:20260424T110727
CREATED:20250508T121408Z
LAST-MODIFIED:20250508T121408Z
UID:19396-1752499800-1752852600@artsalliancedavis.org
SUMMARY:Summer Camp at the Barre
DESCRIPTION:This one week Summer Camp at the Barre is designed to inspire health and happiness in your daughter’s pre-teen body and mind.\nEach day includes barre\, guided discussions\, hands-on workshops\, stretching\, meditation\, and time to reflect. By Friday\, she’ll leave with a personalized set of core values—and a whole lot of confidence.\nIt’s the summer camp you wish you had as a tween.\nIt’s going to be epic.
URL:https://artsalliancedavis.org/event/summer-camp-at-the-barre/
LOCATION:yolo barre\, 4625 Second St. #110\, Davis\, CA\, 95618\, United States
CATEGORIES:Bring the Kids,Fitness,Sports
ATTACH;FMTTYPE=image/jpeg:https://artsalliancedavis.org/wp-content/uploads/2025/05/IMG_1990-scaled-6AM53E.tmp_.jpg
ORGANIZER;CN="Yolo Barre":MAILTO:yolobarreinfo@gmail.com
END:VEVENT
BEGIN:VEVENT
DTSTART;TZID=America/Los_Angeles:20250721T090000
DTEND;TZID=America/Los_Angeles:20250725T150000
DTSTAMP:20260424T110727
CREATED:20250426T230623Z
LAST-MODIFIED:20250426T230623Z
UID:19200-1753088400-1753455600@artsalliancedavis.org
SUMMARY:Art Explorers: All Day Summer Arts Camp Week 4: July 21-25
DESCRIPTION:Let’s make art! Join us for a week of art adventures\, friendship\, and fun during Summer break. Explore ceramics\, paper mache\, painting\, drawing\, and mixed media\, led by our amazing team of Teaching Artists. Camp Counselors will guide campers in fun camp activities and outdoor play. All materials are provided\, just bring a water bottle\, snack\, sunscreen and your creativity! \nPrice: $550 \nAGES 6 – 12\nMonday – Friday\, 9 am – 3 pm \nWeek 4: July 21-25 \n  \n 
URL:https://artsalliancedavis.org/event/art-explorers-all-day-summer-arts-camp-week-4-july-21-25/
LOCATION:Davis Arts Center\, 1919 F St.
CATEGORIES:Art
ATTACH;FMTTYPE=image/jpeg:https://artsalliancedavis.org/wp-content/uploads/2025/04/DAC-Summer-camp-Feb25-3-k0IXo3.tmp_.jpg
ORGANIZER;CN="Davis Arts Center":MAILTO:office@davisartscenter.org
END:VEVENT
BEGIN:VEVENT
DTSTART;TZID=America/Los_Angeles:20250728T090000
DTEND;TZID=America/Los_Angeles:20250801T150000
DTSTAMP:20260424T110727
CREATED:20250503T232303Z
LAST-MODIFIED:20250503T232303Z
UID:19330-1753693200-1754060400@artsalliancedavis.org
SUMMARY:Art Explorers: All Day Summer Arts Camp Week 5: July 28-August 1
DESCRIPTION:Let’s make art! Join us for a week of art adventures\, friendship\, and fun during Summer break. Explore ceramics\, paper mache\, painting\, drawing\, and mixed media\, led by our amazing team of Teaching Artists. Camp Counselors will guide campers in fun camp activities and outdoor play. All materials are provided\, just bring a water bottle\, snack\, sunscreen and your creativity! \nPrice: $550 \nAGES 6 – 12\nMonday – Friday\, 9 am – 3 pm \nWeek 5: July 28-August 1
URL:https://artsalliancedavis.org/event/art-explorers-all-day-summer-arts-camp-week-5-july-28-august-1/
LOCATION:Davis Arts Center\, 1919 F St.
CATEGORIES:Art
ATTACH;FMTTYPE=image/jpeg:https://artsalliancedavis.org/wp-content/uploads/2025/05/DAC-Summer-camp-Feb25-4-r5t16E.tmp_.jpg
ORGANIZER;CN="Davis Arts Center":MAILTO:office@davisartscenter.org
END:VEVENT
END:VCALENDAR