BEGIN:VCALENDAR
VERSION:2.0
PRODID:-//Arts Alliance Davis - ECPv6.15.20//NONSGML v1.0//EN
CALSCALE:GREGORIAN
METHOD:PUBLISH
X-WR-CALNAME:Arts Alliance Davis
X-ORIGINAL-URL:https://artsalliancedavis.org
X-WR-CALDESC:Events for Arts Alliance Davis
REFRESH-INTERVAL;VALUE=DURATION:PT1H
X-Robots-Tag:noindex
X-PUBLISHED-TTL:PT1H
BEGIN:VTIMEZONE
TZID:America/Los_Angeles
BEGIN:DAYLIGHT
TZOFFSETFROM:-0800
TZOFFSETTO:-0700
TZNAME:PDT
DTSTART:20240310T100000
END:DAYLIGHT
BEGIN:STANDARD
TZOFFSETFROM:-0700
TZOFFSETTO:-0800
TZNAME:PST
DTSTART:20241103T090000
END:STANDARD
BEGIN:DAYLIGHT
TZOFFSETFROM:-0800
TZOFFSETTO:-0700
TZNAME:PDT
DTSTART:20250309T100000
END:DAYLIGHT
BEGIN:STANDARD
TZOFFSETFROM:-0700
TZOFFSETTO:-0800
TZNAME:PST
DTSTART:20251102T090000
END:STANDARD
BEGIN:DAYLIGHT
TZOFFSETFROM:-0800
TZOFFSETTO:-0700
TZNAME:PDT
DTSTART:20260308T100000
END:DAYLIGHT
BEGIN:STANDARD
TZOFFSETFROM:-0700
TZOFFSETTO:-0800
TZNAME:PST
DTSTART:20261101T090000
END:STANDARD
END:VTIMEZONE
BEGIN:VEVENT
DTSTART;TZID=America/Los_Angeles:20250821T180000
DTEND;TZID=America/Los_Angeles:20250821T190000
DTSTAMP:20260424T194325
CREATED:20250821T141732Z
LAST-MODIFIED:20250821T141732Z
UID:19530-1755799200-1755802800@artsalliancedavis.org
SUMMARY:Davis Arts Center End of Summer Show
DESCRIPTION:Join us for our first-ever Summer Show! \n\n\nCome celebrate a season of creativity with artwork made by students in our summer camps and classes. Meet the staff\, explore the vibrant displays\, and see all the fun and imagination that filled our summer! \nReception: 6-7p
URL:https://artsalliancedavis.org/event/davis-arts-center-end-of-summer-show/
LOCATION:1919 F St\, Davis CA\, 1919 F St\, Davis\, 95616\, United States
CATEGORIES:Art,Bring the Kids,Community
ATTACH;FMTTYPE=image/png:https://artsalliancedavis.org/wp-content/uploads/2025/08/Summer-Show-promo-xjR3SQ.png
ORGANIZER;CN="Davis Arts Center":MAILTO:office@davisartscenter.org
END:VEVENT
END:VCALENDAR