BEGIN:VCALENDAR
VERSION:2.0
PRODID:-//Arts Alliance Davis - ECPv6.15.20//NONSGML v1.0//EN
CALSCALE:GREGORIAN
METHOD:PUBLISH
X-WR-CALNAME:Arts Alliance Davis
X-ORIGINAL-URL:https://artsalliancedavis.org
X-WR-CALDESC:Events for Arts Alliance Davis
REFRESH-INTERVAL;VALUE=DURATION:PT1H
X-Robots-Tag:noindex
X-PUBLISHED-TTL:PT1H
BEGIN:VTIMEZONE
TZID:America/Los_Angeles
BEGIN:DAYLIGHT
TZOFFSETFROM:-0800
TZOFFSETTO:-0700
TZNAME:PDT
DTSTART:20250309T100000
END:DAYLIGHT
BEGIN:STANDARD
TZOFFSETFROM:-0700
TZOFFSETTO:-0800
TZNAME:PST
DTSTART:20251102T090000
END:STANDARD
BEGIN:DAYLIGHT
TZOFFSETFROM:-0800
TZOFFSETTO:-0700
TZNAME:PDT
DTSTART:20260308T100000
END:DAYLIGHT
BEGIN:STANDARD
TZOFFSETFROM:-0700
TZOFFSETTO:-0800
TZNAME:PST
DTSTART:20261101T090000
END:STANDARD
BEGIN:DAYLIGHT
TZOFFSETFROM:-0800
TZOFFSETTO:-0700
TZNAME:PDT
DTSTART:20270314T100000
END:DAYLIGHT
BEGIN:STANDARD
TZOFFSETFROM:-0700
TZOFFSETTO:-0800
TZNAME:PST
DTSTART:20271107T090000
END:STANDARD
END:VTIMEZONE
BEGIN:VEVENT
DTSTART;TZID=America/Los_Angeles:20260124T080000
DTEND;TZID=America/Los_Angeles:20260124T130000
DTSTAMP:20260423T203837
CREATED:20260123T230615Z
LAST-MODIFIED:20260123T230615Z
UID:23369-1769241600-1769259600@artsalliancedavis.org
SUMMARY:Cool Davis Home Energy Pop-Up at the Davis Farmers Market
DESCRIPTION:Stop by the Cool Davis Home Energy Pop-Up at the Davis Farmers Market on Saturday\, January 24th! Our booth will be located at the far end of the market; nearby the carousel. \nGet access to free assistance\, resources\, and helpful materials to support your home energy journey—from efficiency tips to clean energy solutions. Swing by\, ask questions\, and take the next step toward a more comfortable\, energy-smart home. We look forward to seeing you there!
URL:https://artsalliancedavis.org/event/cool-davis-home-energy-pop-up-at-the-davis-farmers-market/
LOCATION:Central Park\, 101 C St\, Davis\, CA\, United States
CATEGORIES:Community
ATTACH;FMTTYPE=image/png:https://artsalliancedavis.org/wp-content/uploads/2026/01/CoolDavis-logo-URL-M5zj53.png
ORGANIZER;CN="Cool Davis":MAILTO:newseditor@cooldavis.org
END:VEVENT
END:VCALENDAR