BEGIN:VCALENDAR
VERSION:2.0
PRODID:-//Arts Alliance Davis - ECPv6.15.20//NONSGML v1.0//EN
CALSCALE:GREGORIAN
METHOD:PUBLISH
X-WR-CALNAME:Arts Alliance Davis
X-ORIGINAL-URL:https://artsalliancedavis.org
X-WR-CALDESC:Events for Arts Alliance Davis
REFRESH-INTERVAL;VALUE=DURATION:PT1H
X-Robots-Tag:noindex
X-PUBLISHED-TTL:PT1H
BEGIN:VTIMEZONE
TZID:America/Los_Angeles
BEGIN:DAYLIGHT
TZOFFSETFROM:-0800
TZOFFSETTO:-0700
TZNAME:PDT
DTSTART:20250309T100000
END:DAYLIGHT
BEGIN:STANDARD
TZOFFSETFROM:-0700
TZOFFSETTO:-0800
TZNAME:PST
DTSTART:20251102T090000
END:STANDARD
BEGIN:DAYLIGHT
TZOFFSETFROM:-0800
TZOFFSETTO:-0700
TZNAME:PDT
DTSTART:20260308T100000
END:DAYLIGHT
BEGIN:STANDARD
TZOFFSETFROM:-0700
TZOFFSETTO:-0800
TZNAME:PST
DTSTART:20261101T090000
END:STANDARD
BEGIN:DAYLIGHT
TZOFFSETFROM:-0800
TZOFFSETTO:-0700
TZNAME:PDT
DTSTART:20270314T100000
END:DAYLIGHT
BEGIN:STANDARD
TZOFFSETFROM:-0700
TZOFFSETTO:-0800
TZNAME:PST
DTSTART:20271107T090000
END:STANDARD
END:VTIMEZONE
BEGIN:VEVENT
DTSTART;TZID=America/Los_Angeles:20260228T130000
DTEND;TZID=America/Los_Angeles:20260228T170000
DTSTAMP:20260423T174541
CREATED:20260213T163718Z
LAST-MODIFIED:20260213T163718Z
UID:23711-1772283600-1772298000@artsalliancedavis.org
SUMMARY:Grains of Connection: Art\, Food & Conversation
DESCRIPTION:Join the Manetti Shrem Museum for an afternoon of art\, communal bread breaking\, and stimulating conversations aimed at inspiring action toward a more just\, resilient and empathetic world. Anchored by the exhibition “Sahar Khoury: Weights & Measures\,” the program weaves together dialogue and za’atar making with award-winning Bay Area chef and community organizer Reem Assil and Charlotte Biltekoff\, the UC Davis Darrell Corti Endowed Professor in Food\, Wine and Culture;guided tastings; hands-on activities with UC Davis cultural and agricultural community resources; pop-up gallery talks; and art making. \nPresented in partnership with the Robert Mondavi Institute for Wine and Food Science\, the UC Davis Library\, the UC Davis Student Farm\, American Studies Department\, Department of Food Science and Technology\, and Human Library Organization.
URL:https://artsalliancedavis.org/event/grains-of-connection-art-food-conversation/
LOCATION:Jan Shrem and Maria Manetti Shrem Museum of Art at UC Davis\, 254 Old Davis Road\, Davis\, California\, 95616
CATEGORIES:Art,Books & Talks,Food & Drink
ATTACH;FMTTYPE=image/jpeg:https://artsalliancedavis.org/wp-content/uploads/2026/02/grains-newsletter-image-W1wKY8.jpg
END:VEVENT
END:VCALENDAR