BEGIN:VCALENDAR
VERSION:2.0
PRODID:-//Arts Alliance Davis - ECPv6.15.20//NONSGML v1.0//EN
CALSCALE:GREGORIAN
METHOD:PUBLISH
X-ORIGINAL-URL:https://artsalliancedavis.org
X-WR-CALDESC:Events for Arts Alliance Davis
REFRESH-INTERVAL;VALUE=DURATION:PT1H
X-Robots-Tag:noindex
X-PUBLISHED-TTL:PT1H
BEGIN:VTIMEZONE
TZID:America/Los_Angeles
BEGIN:DAYLIGHT
TZOFFSETFROM:-0800
TZOFFSETTO:-0700
TZNAME:PDT
DTSTART:20240310T100000
END:DAYLIGHT
BEGIN:STANDARD
TZOFFSETFROM:-0700
TZOFFSETTO:-0800
TZNAME:PST
DTSTART:20241103T090000
END:STANDARD
BEGIN:DAYLIGHT
TZOFFSETFROM:-0800
TZOFFSETTO:-0700
TZNAME:PDT
DTSTART:20250309T100000
END:DAYLIGHT
BEGIN:STANDARD
TZOFFSETFROM:-0700
TZOFFSETTO:-0800
TZNAME:PST
DTSTART:20251102T090000
END:STANDARD
BEGIN:DAYLIGHT
TZOFFSETFROM:-0800
TZOFFSETTO:-0700
TZNAME:PDT
DTSTART:20260308T100000
END:DAYLIGHT
BEGIN:STANDARD
TZOFFSETFROM:-0700
TZOFFSETTO:-0800
TZNAME:PST
DTSTART:20261101T090000
END:STANDARD
END:VTIMEZONE
BEGIN:VEVENT
DTSTART;TZID=America/Los_Angeles:20251126T170000
DTEND;TZID=America/Los_Angeles:20251127T100000
DTSTAMP:20260424T082851
CREATED:20251025T165817Z
LAST-MODIFIED:20251025T165817Z
UID:21750-1764176400-1764237600@artsalliancedavis.org
SUMMARY:Free Uber\, Lyft\, and Cab Rides by Wells Call Injury Lawyers
DESCRIPTION:According to the Annual Report of California DUI Management Information System\, of the total number of crash fatalities in 2018\, 32.1% were alcohol-related in California. We are committed to helping our community not be a part of this statistic. \nWe pride ourselves on making our community safer and giving back to our neighbors as much as we can. That is why this holiday season\, if you decide to go out and celebrate\, we will pay for your cab ride home to ensure that you make it home safely. \nWe’d like to introduce a new community initiative: Free Uber\, Lyft\, and Cab Ride Program to help reduce the number of drunk drivers on the road during the holidays. This holiday season\, if you decide to go and drink\, please make the responsible choice to grab a ride home instead of getting behind the wheel. We will reimburse you for your fare home\, so save that receipt! \nRead more about our Holiday Ride-Share Program below for full details. \nHow it Works:\nThe program is simple. If you have been drinking – take an Uber\, Lyft\, or cab\, and you’ll get a reimbursement from us! \nWe want you home safe this holiday season. \nQualifying 2025 Holidays:\nSuper Bowl Sunday\nSt. Patrick’s Day\nCinco de Mayo\nIndependence Day\nLabor Day\nHalloween\nThanksgiving Eve & Day\nNew Year’s Eve & Day\nDetails to the Program:\nRides must be in Solano County\nRides must be taken between 5 pm on the day of the holiday and 10 am the next morning.\nYou must be of legal drinking age to qualify (21 and over).\nValid for one\, one-way ride to a safe destination.\nLimit one reimbursement per household.\nA maximum value of $25.00 anywhere within Solano County.\nThe maximum value includes a tip of up to 10%. Anything above a 10% tip on the base fare will not be reimbursed.\nParticipation in this promotion is limited to the first 25 submissions.\nWhen Will I Get My Reimbursement?\nWithin 10 business days\, you must submit a copy of your receipt and photo ID via mail to our office. We will mail you a check for your reimbursement of a qualifying submission within 30 days of the holiday. \nWells Call Injury Lawyers\n1455 Oliver Rd #110\nFairfield\, CA 94534\n707-302-6088\nwww.wccbc.com \nSubmissions are limited and will fill up fast\, so don’t delay submitting your reimbursement.
URL:https://artsalliancedavis.org/event/free-uber-lyft-and-cab-rides-by-wells-call-injury-lawyers-3/
LOCATION:Fairfield\, CA 94534\, Fairfield\, CA 94534\, Fairfield\, CA\, 94534\, United States
CATEGORIES:Community
ATTACH;FMTTYPE=image/png:https://artsalliancedavis.org/wp-content/uploads/2025/10/Screenshot-2025-10-21-144821-IDUzXo.png
END:VEVENT
BEGIN:VEVENT
DTSTART;TZID=America/Los_Angeles:20251128T090000
DTEND;TZID=America/Los_Angeles:20251128T123000
DTSTAMP:20260424T082851
CREATED:20251105T222736Z
LAST-MODIFIED:20251105T222736Z
UID:22052-1764320400-1764333000@artsalliancedavis.org
SUMMARY:POP UP SWIM LESSONS—SwimAmerica-Davis
DESCRIPTION:Looking for something fun and active to do with your little one over the break?\nJoin us for our Pop-Up Swim Lessons — 30 minutes of splashes\, smiles\, and skill-building in our warm\, indoor pool. \nPerfect for new families wanting to try us out or current swimmers looking for some extra practice. \nRegistration is required\, but no ongoing enrollment is needed. \nCome see why families love swimming at SwimAmerica-Davis — confidence\, fun\, and safety all rolled into one splashy morning. \nPop-Up Swim Lessons — November 28 | 9:00 AM–12:30 PM
URL:https://artsalliancedavis.org/event/pop-up-swim-lessons-swimamerica-davis/
LOCATION:2121 2nd Street Suite 101A\, Davis\, CA 95618\, 2121 2nd Street\, Suite 101A\, Davis\, 95618\, United States
CATEGORIES:Bring the Kids,Sports
ATTACH;FMTTYPE=image/png:https://artsalliancedavis.org/wp-content/uploads/2025/11/POPUP-LESSONS-NpR0JI.png
ORGANIZER;CN="SwimAmerica-Davis":MAILTO:frontdesk@swimamericadavis.com
END:VEVENT
END:VCALENDAR