BEGIN:VCALENDAR
VERSION:2.0
PRODID:-//Arts Alliance Davis - ECPv6.15.20//NONSGML v1.0//EN
CALSCALE:GREGORIAN
METHOD:PUBLISH
X-WR-CALNAME:Arts Alliance Davis
X-ORIGINAL-URL:https://artsalliancedavis.org
X-WR-CALDESC:Events for Arts Alliance Davis
REFRESH-INTERVAL;VALUE=DURATION:PT1H
X-Robots-Tag:noindex
X-PUBLISHED-TTL:PT1H
BEGIN:VTIMEZONE
TZID:America/Los_Angeles
BEGIN:DAYLIGHT
TZOFFSETFROM:-0800
TZOFFSETTO:-0700
TZNAME:PDT
DTSTART:20250309T100000
END:DAYLIGHT
BEGIN:STANDARD
TZOFFSETFROM:-0700
TZOFFSETTO:-0800
TZNAME:PST
DTSTART:20251102T090000
END:STANDARD
BEGIN:DAYLIGHT
TZOFFSETFROM:-0800
TZOFFSETTO:-0700
TZNAME:PDT
DTSTART:20260308T100000
END:DAYLIGHT
BEGIN:STANDARD
TZOFFSETFROM:-0700
TZOFFSETTO:-0800
TZNAME:PST
DTSTART:20261101T090000
END:STANDARD
BEGIN:DAYLIGHT
TZOFFSETFROM:-0800
TZOFFSETTO:-0700
TZNAME:PDT
DTSTART:20270314T100000
END:DAYLIGHT
BEGIN:STANDARD
TZOFFSETFROM:-0700
TZOFFSETTO:-0800
TZNAME:PST
DTSTART:20271107T090000
END:STANDARD
END:VTIMEZONE
BEGIN:VEVENT
DTSTART;TZID=America/Los_Angeles:20260207T110000
DTEND;TZID=America/Los_Angeles:20260207T120000
DTSTAMP:20260424T132822
CREATED:20260107T190733Z
LAST-MODIFIED:20260107T190733Z
UID:23092-1770462000-1770465600@artsalliancedavis.org
SUMMARY:America\, Happy 250th Birthday!
DESCRIPTION:Davis Senior High School Symphony Orchestra presents the story of ‘An American Dream\, Commemorating 250 Years of Independence\,’ a kids family concert. \nDavis Senior HS Orchestra Program Director: Angelo Moreno \nNarrator: Cody Craven \nComposer: Andy Tan \nPlaywright/Dramatist: UC Davis Professor of Writing and Poetry & Poet Laureate emeritus of Davis\, Dr. Andy Jones \nVisual AI Computer Artist: Gabriel Villasenor \nBagpipes: Rob Duncan
URL:https://artsalliancedavis.org/event/america-happy-250th-birthday/
LOCATION:Richard Brunelle Performance Hall\, 315 W 14th Street\, Davis\, CA\, 95616\, United States
CATEGORIES:Music
ATTACH;FMTTYPE=image/jpeg:https://artsalliancedavis.org/wp-content/uploads/2026/01/America250-fWjs30.jpg
ORGANIZER;CN="Davis High School Orchestras Booster":MAILTO:dhs.holmes.orchestras@gmail.com
END:VEVENT
END:VCALENDAR