BEGIN:VCALENDAR
VERSION:2.0
PRODID:-//Arts Alliance Davis - ECPv6.15.20//NONSGML v1.0//EN
CALSCALE:GREGORIAN
METHOD:PUBLISH
X-ORIGINAL-URL:https://artsalliancedavis.org
X-WR-CALDESC:Events for Arts Alliance Davis
REFRESH-INTERVAL;VALUE=DURATION:PT1H
X-Robots-Tag:noindex
X-PUBLISHED-TTL:PT1H
BEGIN:VTIMEZONE
TZID:America/Los_Angeles
BEGIN:DAYLIGHT
TZOFFSETFROM:-0800
TZOFFSETTO:-0700
TZNAME:PDT
DTSTART:20240310T100000
END:DAYLIGHT
BEGIN:STANDARD
TZOFFSETFROM:-0700
TZOFFSETTO:-0800
TZNAME:PST
DTSTART:20241103T090000
END:STANDARD
BEGIN:DAYLIGHT
TZOFFSETFROM:-0800
TZOFFSETTO:-0700
TZNAME:PDT
DTSTART:20250309T100000
END:DAYLIGHT
BEGIN:STANDARD
TZOFFSETFROM:-0700
TZOFFSETTO:-0800
TZNAME:PST
DTSTART:20251102T090000
END:STANDARD
BEGIN:DAYLIGHT
TZOFFSETFROM:-0800
TZOFFSETTO:-0700
TZNAME:PDT
DTSTART:20260308T100000
END:DAYLIGHT
BEGIN:STANDARD
TZOFFSETFROM:-0700
TZOFFSETTO:-0800
TZNAME:PST
DTSTART:20261101T090000
END:STANDARD
END:VTIMEZONE
BEGIN:VEVENT
DTSTART;TZID=America/Los_Angeles:20251204T193000
DTEND;TZID=America/Los_Angeles:20251204T220000
DTSTAMP:20260423T192214
CREATED:20251105T223014Z
LAST-MODIFIED:20251105T223014Z
UID:22066-1764876600-1764885600@artsalliancedavis.org
SUMMARY:A Christmas Carol the Musical
DESCRIPTION:Show Run: November 21 – December 7\, 2025 \nCome see this timeless tale in a timeless place: the historic Woodland Opera House! Start the season right with this musical interpretation of Charles Dicken’s classic tale featuring music and lyrics by Broadway heavy hitters\, Alan Menken (Disney’s Beauty and the Beast\, Disney’s The Little Mermaid\, Little Shop of Horrors) and Lynn Ahrens (Ragtime\, Seussical\, Once on This Island). \nEbenezer Scrooge is a prosperous curmudgeon who believes that personal wealth is far more valuable than the happiness and comfort of others. With an infuriated “Bah! Humbug!” Scrooge summates his feelings of Christmas tidings and charitable giving\, but he’s forced to face his selfish ways when three ghosts on Christmas Eve lead him through his Past\, Present and Future. Thanks to their guidance\, Scrooge recognizes his faults and greets Christmas morning with a cheerful “Happy Christmas” before spending the day reconnecting and sharing love with those that mean the most to him. \nLearn More: https://www.woodlandoperahouse.org/ \nGet Tickets: https://app.arts-people.com/index.php?show=273634 \nA CHRISTMAS CAROL is presented through special arrangement with Music Theatre International (MTI). All authorized performance materials are also supplied by MTI. mtishows.com
URL:https://artsalliancedavis.org/event/a-christmas-carol-the-musical-8/
LOCATION:Woodland Opera House\, 340 2nd Street\, Woodland\, California
CATEGORIES:Stage & Dance
ATTACH;FMTTYPE=image/jpeg:https://artsalliancedavis.org/wp-content/uploads/2025/11/Christmas-Carol-1400-x-1000-px-3-lB2it5.jpg
ORGANIZER;CN="Woodland Opera House":MAILTO:boxoffice@woodlandoperahouse.org
END:VEVENT
BEGIN:VEVENT
DTSTART;TZID=America/Los_Angeles:20251205T193000
DTEND;TZID=America/Los_Angeles:20251205T220000
DTSTAMP:20260423T192214
CREATED:20251105T223043Z
LAST-MODIFIED:20251105T223043Z
UID:22069-1764963000-1764972000@artsalliancedavis.org
SUMMARY:A Christmas Carol the Musical
DESCRIPTION:Show Run: November 21 – December 7\, 2025 \nCome see this timeless tale in a timeless place: the historic Woodland Opera House! Start the season right with this musical interpretation of Charles Dicken’s classic tale featuring music and lyrics by Broadway heavy hitters\, Alan Menken (Disney’s Beauty and the Beast\, Disney’s The Little Mermaid\, Little Shop of Horrors) and Lynn Ahrens (Ragtime\, Seussical\, Once on This Island). \nEbenezer Scrooge is a prosperous curmudgeon who believes that personal wealth is far more valuable than the happiness and comfort of others. With an infuriated “Bah! Humbug!” Scrooge summates his feelings of Christmas tidings and charitable giving\, but he’s forced to face his selfish ways when three ghosts on Christmas Eve lead him through his Past\, Present and Future. Thanks to their guidance\, Scrooge recognizes his faults and greets Christmas morning with a cheerful “Happy Christmas” before spending the day reconnecting and sharing love with those that mean the most to him. \nLearn More: https://www.woodlandoperahouse.org/ \nGet Tickets: https://app.arts-people.com/index.php?show=273634 \nA CHRISTMAS CAROL is presented through special arrangement with Music Theatre International (MTI). All authorized performance materials are also supplied by MTI. mtishows.com
URL:https://artsalliancedavis.org/event/a-christmas-carol-the-musical-9/
LOCATION:Woodland Opera House\, 340 2nd Street\, Woodland\, California
CATEGORIES:Stage & Dance
ATTACH;FMTTYPE=image/jpeg:https://artsalliancedavis.org/wp-content/uploads/2025/11/Christmas-Carol-1400-x-1000-px-3-lB2it5.jpg
ORGANIZER;CN="Woodland Opera House":MAILTO:boxoffice@woodlandoperahouse.org
END:VEVENT
BEGIN:VEVENT
DTSTART;TZID=America/Los_Angeles:20251206T140000
DTEND;TZID=America/Los_Angeles:20251206T163000
DTSTAMP:20260423T192214
CREATED:20251105T223057Z
LAST-MODIFIED:20251105T223057Z
UID:22070-1765029600-1765038600@artsalliancedavis.org
SUMMARY:A Christmas Carol the Musical
DESCRIPTION:Show Run: November 21 – December 7\, 2025 \nCome see this timeless tale in a timeless place: the historic Woodland Opera House! Start the season right with this musical interpretation of Charles Dicken’s classic tale featuring music and lyrics by Broadway heavy hitters\, Alan Menken (Disney’s Beauty and the Beast\, Disney’s The Little Mermaid\, Little Shop of Horrors) and Lynn Ahrens (Ragtime\, Seussical\, Once on This Island). \nEbenezer Scrooge is a prosperous curmudgeon who believes that personal wealth is far more valuable than the happiness and comfort of others. With an infuriated “Bah! Humbug!” Scrooge summates his feelings of Christmas tidings and charitable giving\, but he’s forced to face his selfish ways when three ghosts on Christmas Eve lead him through his Past\, Present and Future. Thanks to their guidance\, Scrooge recognizes his faults and greets Christmas morning with a cheerful “Happy Christmas” before spending the day reconnecting and sharing love with those that mean the most to him. \nLearn More: https://www.woodlandoperahouse.org/ \nGet Tickets: https://app.arts-people.com/index.php?show=273634 \nA CHRISTMAS CAROL is presented through special arrangement with Music Theatre International (MTI). All authorized performance materials are also supplied by MTI. mtishows.com
URL:https://artsalliancedavis.org/event/a-christmas-carol-the-musical-10/
LOCATION:Woodland Opera House\, 340 2nd Street\, Woodland\, California
CATEGORIES:Stage & Dance
ATTACH;FMTTYPE=image/jpeg:https://artsalliancedavis.org/wp-content/uploads/2025/11/Christmas-Carol-1400-x-1000-px-3-lB2it5.jpg
ORGANIZER;CN="Woodland Opera House":MAILTO:boxoffice@woodlandoperahouse.org
END:VEVENT
BEGIN:VEVENT
DTSTART;TZID=America/Los_Angeles:20251206T193000
DTEND;TZID=America/Los_Angeles:20251206T220000
DTSTAMP:20260423T192214
CREATED:20251105T223058Z
LAST-MODIFIED:20251105T223058Z
UID:22071-1765049400-1765058400@artsalliancedavis.org
SUMMARY:A Christmas Carol the Musical
DESCRIPTION:Show Run: November 21 – December 7\, 2025 \nCome see this timeless tale in a timeless place: the historic Woodland Opera House! Start the season right with this musical interpretation of Charles Dicken’s classic tale featuring music and lyrics by Broadway heavy hitters\, Alan Menken (Disney’s Beauty and the Beast\, Disney’s The Little Mermaid\, Little Shop of Horrors) and Lynn Ahrens (Ragtime\, Seussical\, Once on This Island). \nEbenezer Scrooge is a prosperous curmudgeon who believes that personal wealth is far more valuable than the happiness and comfort of others. With an infuriated “Bah! Humbug!” Scrooge summates his feelings of Christmas tidings and charitable giving\, but he’s forced to face his selfish ways when three ghosts on Christmas Eve lead him through his Past\, Present and Future. Thanks to their guidance\, Scrooge recognizes his faults and greets Christmas morning with a cheerful “Happy Christmas” before spending the day reconnecting and sharing love with those that mean the most to him. \nLearn More: https://www.woodlandoperahouse.org/ \nGet Tickets: https://app.arts-people.com/index.php?show=273634 \nA CHRISTMAS CAROL is presented through special arrangement with Music Theatre International (MTI). All authorized performance materials are also supplied by MTI. mtishows.com
URL:https://artsalliancedavis.org/event/a-christmas-carol-the-musical-11/
LOCATION:Woodland Opera House\, 340 2nd Street\, Woodland\, California
CATEGORIES:Stage & Dance
ATTACH;FMTTYPE=image/jpeg:https://artsalliancedavis.org/wp-content/uploads/2025/11/Christmas-Carol-1400-x-1000-px-3-lB2it5.jpg
ORGANIZER;CN="Woodland Opera House":MAILTO:boxoffice@woodlandoperahouse.org
END:VEVENT
BEGIN:VEVENT
DTSTART;TZID=America/Los_Angeles:20251207T140000
DTEND;TZID=America/Los_Angeles:20251207T163000
DTSTAMP:20260423T192214
CREATED:20251105T223112Z
LAST-MODIFIED:20251105T223112Z
UID:22072-1765116000-1765125000@artsalliancedavis.org
SUMMARY:A Christmas Carol the Musical
DESCRIPTION:Show Run: November 21 – December 7\, 2025 \nCome see this timeless tale in a timeless place: the historic Woodland Opera House! Start the season right with this musical interpretation of Charles Dicken’s classic tale featuring music and lyrics by Broadway heavy hitters\, Alan Menken (Disney’s Beauty and the Beast\, Disney’s The Little Mermaid\, Little Shop of Horrors) and Lynn Ahrens (Ragtime\, Seussical\, Once on This Island). \nEbenezer Scrooge is a prosperous curmudgeon who believes that personal wealth is far more valuable than the happiness and comfort of others. With an infuriated “Bah! Humbug!” Scrooge summates his feelings of Christmas tidings and charitable giving\, but he’s forced to face his selfish ways when three ghosts on Christmas Eve lead him through his Past\, Present and Future. Thanks to their guidance\, Scrooge recognizes his faults and greets Christmas morning with a cheerful “Happy Christmas” before spending the day reconnecting and sharing love with those that mean the most to him. \nLearn More: https://www.woodlandoperahouse.org/ \nGet Tickets: https://app.arts-people.com/index.php?show=273634 \nA CHRISTMAS CAROL is presented through special arrangement with Music Theatre International (MTI). All authorized performance materials are also supplied by MTI. mtishows.com
URL:https://artsalliancedavis.org/event/a-christmas-carol-the-musical-12/
LOCATION:Woodland Opera House\, 340 2nd Street\, Woodland\, California
CATEGORIES:Stage & Dance
ATTACH;FMTTYPE=image/jpeg:https://artsalliancedavis.org/wp-content/uploads/2025/11/Christmas-Carol-1400-x-1000-px-3-lB2it5.jpg
ORGANIZER;CN="Woodland Opera House":MAILTO:boxoffice@woodlandoperahouse.org
END:VEVENT
END:VCALENDAR