BEGIN:VCALENDAR
VERSION:2.0
PRODID:-//Arts Alliance Davis - ECPv6.15.20//NONSGML v1.0//EN
CALSCALE:GREGORIAN
METHOD:PUBLISH
X-ORIGINAL-URL:https://artsalliancedavis.org
X-WR-CALDESC:Events for Arts Alliance Davis
REFRESH-INTERVAL;VALUE=DURATION:PT1H
X-Robots-Tag:noindex
X-PUBLISHED-TTL:PT1H
BEGIN:VTIMEZONE
TZID:America/Los_Angeles
BEGIN:DAYLIGHT
TZOFFSETFROM:-0800
TZOFFSETTO:-0700
TZNAME:PDT
DTSTART:20240310T100000
END:DAYLIGHT
BEGIN:STANDARD
TZOFFSETFROM:-0700
TZOFFSETTO:-0800
TZNAME:PST
DTSTART:20241103T090000
END:STANDARD
BEGIN:DAYLIGHT
TZOFFSETFROM:-0800
TZOFFSETTO:-0700
TZNAME:PDT
DTSTART:20250309T100000
END:DAYLIGHT
BEGIN:STANDARD
TZOFFSETFROM:-0700
TZOFFSETTO:-0800
TZNAME:PST
DTSTART:20251102T090000
END:STANDARD
BEGIN:DAYLIGHT
TZOFFSETFROM:-0800
TZOFFSETTO:-0700
TZNAME:PDT
DTSTART:20260308T100000
END:DAYLIGHT
BEGIN:STANDARD
TZOFFSETFROM:-0700
TZOFFSETTO:-0800
TZNAME:PST
DTSTART:20261101T090000
END:STANDARD
END:VTIMEZONE
BEGIN:VEVENT
DTSTART;TZID=America/Los_Angeles:20250918T120000
DTEND;TZID=America/Los_Angeles:20250918T200000
DTSTAMP:20260424T212427
CREATED:20250825T150942Z
LAST-MODIFIED:20250825T150942Z
UID:20279-1758196800-1758225600@artsalliancedavis.org
SUMMARY:JBF Vacaville’s Children’s & Maternity Pop-Up Consignment Sale
DESCRIPTION:Just Between Friends (JBF) of Vacaville’s Fall Sale is here!\n\nYou’re invited to our HUGE family-friendly consignment sale where local families shop & save on everything for growing kids. More than 100 families from the community are selling high-quality items at 50-90% off retail prices. Come check us out in Vacaville\, where we pop-up twice a year!\n\nFall Sale: Sept 18-21\, 2025The Mission | 6391 Leisure Town Rd Vacaville\, CA\n\nTo get everything on your shopping list\, join us on Presale Day (9/18) for first access to the biggest selection we have to offer! Presale shopping is limited—get tickets & reserve your spot to shop our best selection at our website.\n\nBring your friends & family—we can’t wait to shop with you!
URL:https://artsalliancedavis.org/event/jbf-vacavilles-childrens-maternity-pop-up-consignment-sale/
LOCATION:The Mission\, 6391 Leisure Town Rd.\, Vacaville\, C\, 95687\, United States
CATEGORIES:Bring the Kids,Community,Featured,Shopping
ATTACH;FMTTYPE=image/jpeg:https://artsalliancedavis.org/wp-content/uploads/2025/08/S25-Save-the-Date-Social-Media-Post-Pink-CaIMPy.jpg
ORGANIZER;CN="Just Between Friends Vacaville":MAILTO:elenahickey@jbfsale.com
END:VEVENT
BEGIN:VEVENT
DTSTART;TZID=America/Los_Angeles:20250919T100000
DTEND;TZID=America/Los_Angeles:20250919T200000
DTSTAMP:20260424T212427
CREATED:20250825T151023Z
LAST-MODIFIED:20250825T151023Z
UID:20281-1758276000-1758312000@artsalliancedavis.org
SUMMARY:JBF Vacaville’s Children’s & Maternity Pop-Up Consignment Sale
DESCRIPTION:Just Between Friends (JBF) of Vacaville’s Fall Sale is here!\n\nYou’re invited to our HUGE family-friendly consignment sale where local families shop & save on everything for growing kids. More than 100 families from the community are selling high-quality items at 50-90% off retail prices. Come check us out in Vacaville\, where we pop-up twice a year!\n\nFall Sale: Sept 18-21\, 2025The Mission | 6391 Leisure Town Rd Vacaville\, CA\n\nTo get everything on your shopping list\, join us on Presale Day (9/18) for first access to the biggest selection we have to offer! Presale shopping is limited—get tickets & reserve your spot to shop our best selection at our website.\n\nBring your friends & family—we can’t wait to shop with you!
URL:https://artsalliancedavis.org/event/jbf-vacavilles-childrens-maternity-pop-up-consignment-sale-2/
LOCATION:The Mission\, 6391 Leisure Town Rd.\, Vacaville\, C\, 95687\, United States
CATEGORIES:Bring the Kids,Community,Featured,Shopping
ATTACH;FMTTYPE=image/jpeg:https://artsalliancedavis.org/wp-content/uploads/2025/08/S25-Save-the-Date-Social-Media-Post-Pink-CaIMPy.jpg
ORGANIZER;CN="Just Between Friends Vacaville":MAILTO:elenahickey@jbfsale.com
END:VEVENT
BEGIN:VEVENT
DTSTART;TZID=America/Los_Angeles:20250920T090000
DTEND;TZID=America/Los_Angeles:20250920T200000
DTSTAMP:20260424T212427
CREATED:20250825T151049Z
LAST-MODIFIED:20250825T151049Z
UID:20285-1758358800-1758398400@artsalliancedavis.org
SUMMARY:JBF Vacaville’s Children’s & Maternity Pop-Up Consignment Sale
DESCRIPTION:Just Between Friends (JBF) of Vacaville’s Fall Sale is here!\n\nYou’re invited to our HUGE family-friendly consignment sale where local families shop & save on everything for growing kids. More than 100 families from the community are selling high-quality items at 50-90% off retail prices. Come check us out in Vacaville\, where we pop-up twice a year!\n\nFall Sale: Sept 18-21\, 2025The Mission | 6391 Leisure Town Rd Vacaville\, CA\n\nTo get everything on your shopping list\, join us on Presale Day (9/18) for first access to the biggest selection we have to offer! Presale shopping is limited—get tickets & reserve your spot to shop our best selection at our website.\n\nBring your friends & family—we can’t wait to shop with you!
URL:https://artsalliancedavis.org/event/jbf-vacavilles-childrens-maternity-pop-up-consignment-sale-3/
LOCATION:The Mission\, 6391 Leisure Town Rd.\, Vacaville\, C\, 95687\, United States
CATEGORIES:Bring the Kids,Community,Featured,Shopping
ATTACH;FMTTYPE=image/jpeg:https://artsalliancedavis.org/wp-content/uploads/2025/08/S25-Save-the-Date-Social-Media-Post-Pink-CaIMPy.jpg
ORGANIZER;CN="Just Between Friends Vacaville":MAILTO:elenahickey@jbfsale.com
END:VEVENT
BEGIN:VEVENT
DTSTART;TZID=America/Los_Angeles:20250921T090000
DTEND;TZID=America/Los_Angeles:20250921T130000
DTSTAMP:20260424T212427
CREATED:20250825T151103Z
LAST-MODIFIED:20250825T151103Z
UID:20289-1758445200-1758459600@artsalliancedavis.org
SUMMARY:JBF Vacaville’s Children’s & Maternity Pop-Up Consignment Sale
DESCRIPTION:Just Between Friends (JBF) of Vacaville’s Fall Sale is here!\n\nYou’re invited to our HUGE family-friendly consignment sale where local families shop & save on everything for growing kids. More than 100 families from the community are selling high-quality items at 50-90% off retail prices. Come check us out in Vacaville\, where we pop-up twice a year!\n\nFall Sale: Sept 18-21\, 2025The Mission | 6391 Leisure Town Rd Vacaville\, CA\n\nTo get everything on your shopping list\, join us on Presale Day (9/18) for first access to the biggest selection we have to offer! Presale shopping is limited—get tickets & reserve your spot to shop our best selection at our website.\n\nBring your friends & family—we can’t wait to shop with you!
URL:https://artsalliancedavis.org/event/jbf-vacavilles-childrens-maternity-pop-up-consignment-sale-4/
LOCATION:The Mission\, 6391 Leisure Town Rd.\, Vacaville\, C\, 95687\, United States
CATEGORIES:Bring the Kids,Community,Featured,Shopping
ATTACH;FMTTYPE=image/jpeg:https://artsalliancedavis.org/wp-content/uploads/2025/08/S25-Save-the-Date-Social-Media-Post-Pink-CaIMPy.jpg
ORGANIZER;CN="Just Between Friends Vacaville":MAILTO:elenahickey@jbfsale.com
END:VEVENT
END:VCALENDAR