BEGIN:VCALENDAR
VERSION:2.0
PRODID:-//Arts Alliance Davis - ECPv6.15.20//NONSGML v1.0//EN
CALSCALE:GREGORIAN
METHOD:PUBLISH
X-ORIGINAL-URL:https://artsalliancedavis.org
X-WR-CALDESC:Events for Arts Alliance Davis
REFRESH-INTERVAL;VALUE=DURATION:PT1H
X-Robots-Tag:noindex
X-PUBLISHED-TTL:PT1H
BEGIN:VTIMEZONE
TZID:America/Los_Angeles
BEGIN:DAYLIGHT
TZOFFSETFROM:-0800
TZOFFSETTO:-0700
TZNAME:PDT
DTSTART:20240310T100000
END:DAYLIGHT
BEGIN:STANDARD
TZOFFSETFROM:-0700
TZOFFSETTO:-0800
TZNAME:PST
DTSTART:20241103T090000
END:STANDARD
BEGIN:DAYLIGHT
TZOFFSETFROM:-0800
TZOFFSETTO:-0700
TZNAME:PDT
DTSTART:20250309T100000
END:DAYLIGHT
BEGIN:STANDARD
TZOFFSETFROM:-0700
TZOFFSETTO:-0800
TZNAME:PST
DTSTART:20251102T090000
END:STANDARD
BEGIN:DAYLIGHT
TZOFFSETFROM:-0800
TZOFFSETTO:-0700
TZNAME:PDT
DTSTART:20260308T100000
END:DAYLIGHT
BEGIN:STANDARD
TZOFFSETFROM:-0700
TZOFFSETTO:-0800
TZNAME:PST
DTSTART:20261101T090000
END:STANDARD
END:VTIMEZONE
BEGIN:VEVENT
DTSTART;TZID=America/Los_Angeles:20250904T190000
DTEND;TZID=America/Los_Angeles:20250904T213000
DTSTAMP:20260424T030350
CREATED:20250821T142411Z
LAST-MODIFIED:20250821T142411Z
UID:19747-1757012400-1757021400@artsalliancedavis.org
SUMMARY:The Village Heart: An Evening of Authentic Connection
DESCRIPTION:You are invited to join us for an evening of heart-to-heart connection\, where we go beyond the surface and dive into the essence of our shared humanity. Whether you are seeking to make new friendships\, deepen existing relationships\, or just explore new ways of connecting\, The Village Heart offers a space for curiosity and exploration.\n\nHere’s what you can expect:\n\nGuided Connection Activities:These include moving through the space with others\, partner exercises\, and group activities that encourage meaningful interactions and new ways of relating to one another.\n\nOpportunities to Explore and Stretch Comfort Zones:Whether you are sharing\, listening or engaging in somatic practices\, every exercise is an invitation to stretch just beyond your comfort zone in a safe and supportive environment. Each participant is free to choose their level of engagement at all times and opt out of any exercise.\n\nReflective Sharing and Group Dynamics:We’ll explore different ways of connecting in small groups or pairs\, always with the invitation to speak from the present moment and lean into what’s authentically true for you.\n\nTogether we’ll enrich our capacity for honest expression as we build a sense of safety in community.\n\nCome as you are\, challenge yourself by choice\, and leave feeling understood\, inspired\, and a part of something truly special.\nWe hope you will join us!\n\nSpace is limited and early registration is recommended.\nTickets: $25 by September 1st /$35 after\nRegister here by going to: kirstenelise.com/connect\nUse the discount code FRIEND to save $10 on two tickets!
URL:https://artsalliancedavis.org/event/the-village-heart-an-evening-of-authentic-connection-4/
LOCATION:The Oakenshield Cottage\, 2417 Oakenshield Road\, Davis\, C\, 95616\, United States
CATEGORIES:Community,Featured,Games
ATTACH;FMTTYPE=image/png:https://artsalliancedavis.org/wp-content/uploads/2025/08/VH-April-Facebook-Cover-1-VgFTjz.png
END:VEVENT
END:VCALENDAR