BEGIN:VCALENDAR
VERSION:2.0
PRODID:-//Arts Alliance Davis - ECPv6.15.20//NONSGML v1.0//EN
CALSCALE:GREGORIAN
METHOD:PUBLISH
X-WR-CALNAME:Arts Alliance Davis
X-ORIGINAL-URL:https://artsalliancedavis.org
X-WR-CALDESC:Events for Arts Alliance Davis
REFRESH-INTERVAL;VALUE=DURATION:PT1H
X-Robots-Tag:noindex
X-PUBLISHED-TTL:PT1H
BEGIN:VTIMEZONE
TZID:America/Los_Angeles
BEGIN:DAYLIGHT
TZOFFSETFROM:-0800
TZOFFSETTO:-0700
TZNAME:PDT
DTSTART:20240310T100000
END:DAYLIGHT
BEGIN:STANDARD
TZOFFSETFROM:-0700
TZOFFSETTO:-0800
TZNAME:PST
DTSTART:20241103T090000
END:STANDARD
BEGIN:DAYLIGHT
TZOFFSETFROM:-0800
TZOFFSETTO:-0700
TZNAME:PDT
DTSTART:20250309T100000
END:DAYLIGHT
BEGIN:STANDARD
TZOFFSETFROM:-0700
TZOFFSETTO:-0800
TZNAME:PST
DTSTART:20251102T090000
END:STANDARD
BEGIN:DAYLIGHT
TZOFFSETFROM:-0800
TZOFFSETTO:-0700
TZNAME:PDT
DTSTART:20260308T100000
END:DAYLIGHT
BEGIN:STANDARD
TZOFFSETFROM:-0700
TZOFFSETTO:-0800
TZNAME:PST
DTSTART:20261101T090000
END:STANDARD
END:VTIMEZONE
BEGIN:VEVENT
DTSTART;TZID=America/Los_Angeles:20250916T093000
DTEND;TZID=America/Los_Angeles:20250916T113000
DTSTAMP:20260424T183400
CREATED:20250822T144001Z
LAST-MODIFIED:20250822T144001Z
UID:19928-1758015000-1758022200@artsalliancedavis.org
SUMMARY:University Farm Circle Welcomes You!
DESCRIPTION:University Farm Circle (UFC)\, a philanthropic\, educational\, and social programs group\, invites you to our annual Newcomers Welcome on Tuesday\, September 16\, 2025\, from 9:30 AM – 11:30 AM at the Unitarian Universalist Church\, 27074 Patwin Road\, Davis\, CA  95616. At the UFC Newcomers Welcome\, you will meet like-minded people looking to foster new friendships and experiences and hear more about what UFC has to offer. \nYou will also explore and sign up for interest groups. UFC offers more than 60 groups – everything from wine tasting\, book clubs\, pickleball\, and biking to foreign language groups and lunch groups. Light snacks and beverages will be provided. \nIn addition to social time\, there will be a short presentation to help familiarize you with all UFC has to offer and to answer your questions. You are welcome to bring friends who might be interested in joining UFC. We look forward to seeing you there! \nFor the most up-to-date information and registration (August 16 -September 15)\, please check the online calendar at www.ufcdavis.org.
URL:https://artsalliancedavis.org/event/university-farm-circle-welcomes-you-2/
LOCATION:Unitarian Universalist Church of Davis\, 27074 Patwin Rd\, Davis\, CA\, 95616\, United States
CATEGORIES:Community,Fitness,Food & Drink,Games,Outside
ATTACH;FMTTYPE=image/jpeg:https://artsalliancedavis.org/wp-content/uploads/2018/10/orange-white-aad-logo.jpg
ORGANIZER;CN="University Farm Circle":MAILTO:info@ufcdavis.org
END:VEVENT
END:VCALENDAR