BEGIN:VCALENDAR
VERSION:2.0
PRODID:-//Arts Alliance Davis - ECPv6.15.20//NONSGML v1.0//EN
CALSCALE:GREGORIAN
METHOD:PUBLISH
X-ORIGINAL-URL:https://artsalliancedavis.org
X-WR-CALDESC:Events for Arts Alliance Davis
REFRESH-INTERVAL;VALUE=DURATION:PT1H
X-Robots-Tag:noindex
X-PUBLISHED-TTL:PT1H
BEGIN:VTIMEZONE
TZID:America/Los_Angeles
BEGIN:DAYLIGHT
TZOFFSETFROM:-0800
TZOFFSETTO:-0700
TZNAME:PDT
DTSTART:20250309T100000
END:DAYLIGHT
BEGIN:STANDARD
TZOFFSETFROM:-0700
TZOFFSETTO:-0800
TZNAME:PST
DTSTART:20251102T090000
END:STANDARD
BEGIN:DAYLIGHT
TZOFFSETFROM:-0800
TZOFFSETTO:-0700
TZNAME:PDT
DTSTART:20260308T100000
END:DAYLIGHT
BEGIN:STANDARD
TZOFFSETFROM:-0700
TZOFFSETTO:-0800
TZNAME:PST
DTSTART:20261101T090000
END:STANDARD
BEGIN:DAYLIGHT
TZOFFSETFROM:-0800
TZOFFSETTO:-0700
TZNAME:PDT
DTSTART:20270314T100000
END:DAYLIGHT
BEGIN:STANDARD
TZOFFSETFROM:-0700
TZOFFSETTO:-0800
TZNAME:PST
DTSTART:20271107T090000
END:STANDARD
END:VTIMEZONE
BEGIN:VEVENT
DTSTART;TZID=America/Los_Angeles:20260213T170000
DTEND;TZID=America/Los_Angeles:20260213T200000
DTSTAMP:20260423T190727
CREATED:20260112T201122Z
LAST-MODIFIED:20260112T201122Z
UID:23154-1771002000-1771012800@artsalliancedavis.org
SUMMARY:Pre-Valentine’s Lobster Night
DESCRIPTION:🦞🍷 Pre-Valentine’s Lobster Night at Great Bear Vineyards 💕\nFriday\, February 13 | 5–8pm\nTicket includes a glass of wine \nLove is in the air—and lobster is on the menu. Join us at Great Bear Vineyards for a cozy\, pre-Valentine’s evening featuring the unbeatable pairing of fresh lobster and estate-grown wine. \nCousins Maine Lobster will be on site serving up their fan-favorite seafood classics\, including rich lobster bisque\, famous lobster tots\, and crave-worthy seafood sandwiches. Grab a bite\, sip a glass of your favorite Great Bear wine\, and get comfortable by one of our glowing fire pits as the evening settles in. \nWhether you’re planning a romantic date night\, a fun night out with friends\, or just treating yourself to something delicious\, this is the kind of winter evening that’s meant to be lingered over—and enjoyed slowly. \nFood by Cousins Maine Lobster\nThe Cousins Maine Lobster food truck will be at the winery offering chowders and seafood sandwiches for purchase. To support this local business\, please enjoy food from the truck and refrain from bringing outside food. \nCome for the lobster\, stay for the wine\, and kick off Valentine’s weekend in the most delicious way possible 🦞✨🍷
URL:https://artsalliancedavis.org/event/pre-valentines-lobster-night/
LOCATION:Great Bear Vineyards (Great Bear)\, 24800 County Rd 101A
CATEGORIES:Food & Drink
ATTACH;FMTTYPE=image/png:https://artsalliancedavis.org/wp-content/uploads/2026/01/2-13-26-Thumbnail-OlcaJe.png
ORGANIZER;CN="Great Bear Vineyards":MAILTO:greatbearvineyards@gmail.com
END:VEVENT
BEGIN:VEVENT
DTSTART;TZID=America/Los_Angeles:20260214T100000
DTEND;TZID=America/Los_Angeles:20260214T113000
DTSTAMP:20260423T190727
CREATED:20260127T112633Z
LAST-MODIFIED:20260127T112633Z
UID:23468-1771063200-1771068600@artsalliancedavis.org
SUMMARY:Paint Date: Galentine’s Day Edition!
DESCRIPTION:Bring your partner\, bestie\, boo\, platonic pal—or anyone who completes your dynamic duo—to this Paint Date: Galentine’s Day edition! Follow the instructor’s step-by-step tutorial\, but with a twist: you’ll swap canvases every 10 minutes to create two collaborative paintings together.\nAll art materials provided\nSnacks and beverages available\nAlcohol will be served at this event\nRegistration price covers two attendees; participants must register as a pair\nInstructor: Miss Rainbow\nAGES 21+\nPrice: $65 per duo
URL:https://artsalliancedavis.org/event/paint-date-galentines-day-edition/
LOCATION:1919 F St\, Davis CA\, 1919 F St\, Davis\, 95616\, United States
CATEGORIES:Art
ATTACH;FMTTYPE=image/png:https://artsalliancedavis.org/wp-content/uploads/2026/01/Galentines-Graphic-1080x1080px-WR4UBi.png
ORGANIZER;CN="Davis Arts Center":MAILTO:office@davisartscenter.org
END:VEVENT
END:VCALENDAR