BEGIN:VCALENDAR
VERSION:2.0
PRODID:-//Arts Alliance Davis - ECPv6.15.20//NONSGML v1.0//EN
CALSCALE:GREGORIAN
METHOD:PUBLISH
X-ORIGINAL-URL:https://artsalliancedavis.org
X-WR-CALDESC:Events for Arts Alliance Davis
REFRESH-INTERVAL;VALUE=DURATION:PT1H
X-Robots-Tag:noindex
X-PUBLISHED-TTL:PT1H
BEGIN:VTIMEZONE
TZID:America/Los_Angeles
BEGIN:DAYLIGHT
TZOFFSETFROM:-0800
TZOFFSETTO:-0700
TZNAME:PDT
DTSTART:20240310T100000
END:DAYLIGHT
BEGIN:STANDARD
TZOFFSETFROM:-0700
TZOFFSETTO:-0800
TZNAME:PST
DTSTART:20241103T090000
END:STANDARD
BEGIN:DAYLIGHT
TZOFFSETFROM:-0800
TZOFFSETTO:-0700
TZNAME:PDT
DTSTART:20250309T100000
END:DAYLIGHT
BEGIN:STANDARD
TZOFFSETFROM:-0700
TZOFFSETTO:-0800
TZNAME:PST
DTSTART:20251102T090000
END:STANDARD
BEGIN:DAYLIGHT
TZOFFSETFROM:-0800
TZOFFSETTO:-0700
TZNAME:PDT
DTSTART:20260308T100000
END:DAYLIGHT
BEGIN:STANDARD
TZOFFSETFROM:-0700
TZOFFSETTO:-0800
TZNAME:PST
DTSTART:20261101T090000
END:STANDARD
END:VTIMEZONE
BEGIN:VEVENT
DTSTART;TZID=America/Los_Angeles:20250517T140000
DTEND;TZID=America/Los_Angeles:20250517T170000
DTSTAMP:20260424T212522
CREATED:20250327T213435Z
LAST-MODIFIED:20250327T213435Z
UID:18625-1747490400-1747501200@artsalliancedavis.org
SUMMARY:9th Annual Woodland Winefest
DESCRIPTION:We’re so excited to be back on the Heritage Plaza in downtown Woodland\, CA. An open air event. Come join us on Saturday May 17\, 2025\,  from 2-5 p.m. \nSip and taste wines from 15+ different local wineries\, and some breweries too! Listen to live music. Enjoy the on-site food truck. Visit our silent auction with over 50 amazing items up for grabs\, and purchase tickets for our popular wine raffle and premium booze raffle. \nProceeds benefit Soroptimist International of Woodland\, a non-profit located in Woodland\, CA. Women Empowering Women through education and programs that help women and girls achieve economic equality. \nMore information and tickets: https://www.soroptimistofwoodland.org/winefest \n 
URL:https://artsalliancedavis.org/event/9th-annual-woodland-winefest/
LOCATION:Heritage Plaza\, Woodland\, Ca\, 701 Main Street\, Woodland\, CA\, 95695
CATEGORIES:Food & Drink
ATTACH;FMTTYPE=image/png:https://artsalliancedavis.org/wp-content/uploads/2025/03/Winefest-Banner-Resized-KkGzfj.tmp_.png
ORGANIZER;CN="Soroptimist International of Woodland":MAILTO:woodlandwinefest@gmail.com
END:VEVENT
END:VCALENDAR