BEGIN:VCALENDAR
VERSION:2.0
PRODID:-//Arts Alliance Davis - ECPv6.15.20//NONSGML v1.0//EN
CALSCALE:GREGORIAN
METHOD:PUBLISH
X-ORIGINAL-URL:https://artsalliancedavis.org
X-WR-CALDESC:Events for Arts Alliance Davis
REFRESH-INTERVAL;VALUE=DURATION:PT1H
X-Robots-Tag:noindex
X-PUBLISHED-TTL:PT1H
BEGIN:VTIMEZONE
TZID:America/Los_Angeles
BEGIN:DAYLIGHT
TZOFFSETFROM:-0800
TZOFFSETTO:-0700
TZNAME:PDT
DTSTART:20240310T100000
END:DAYLIGHT
BEGIN:STANDARD
TZOFFSETFROM:-0700
TZOFFSETTO:-0800
TZNAME:PST
DTSTART:20241103T090000
END:STANDARD
BEGIN:DAYLIGHT
TZOFFSETFROM:-0800
TZOFFSETTO:-0700
TZNAME:PDT
DTSTART:20250309T100000
END:DAYLIGHT
BEGIN:STANDARD
TZOFFSETFROM:-0700
TZOFFSETTO:-0800
TZNAME:PST
DTSTART:20251102T090000
END:STANDARD
BEGIN:DAYLIGHT
TZOFFSETFROM:-0800
TZOFFSETTO:-0700
TZNAME:PDT
DTSTART:20260308T100000
END:DAYLIGHT
BEGIN:STANDARD
TZOFFSETFROM:-0700
TZOFFSETTO:-0800
TZNAME:PST
DTSTART:20261101T090000
END:STANDARD
END:VTIMEZONE
BEGIN:VEVENT
DTSTART;TZID=America/Los_Angeles:20250727T140000
DTEND;TZID=America/Los_Angeles:20250727T170000
DTSTAMP:20260424T083039
CREATED:20250503T232300Z
LAST-MODIFIED:20250503T232300Z
UID:19326-1753624800-1753635600@artsalliancedavis.org
SUMMARY:Lucian Kano Balmer’s Spruce Ritual with Will Marsh & The Integration Ensemble
DESCRIPTION:We are thrilled to welcome back Lucian Kano Balmer’s Spruce Ritual\, this time paired with Will Marsh & The Integration Ensemble.  Both Groups feature a beautiful blending of traditional Indian and Western classical elements and instrumentation. \nThis will be one of those shows you’ll regret hearing about afterwards if you miss it.
URL:https://artsalliancedavis.org/event/lucian-kano-balmers-spruce-ritual-with-will-marsh-the-integration-ensemble/
LOCATION:Melon Ball – Watermelon Music\, 1970 Lake Blvd\, Suite #1\, Davis\, California\, 95616\, United States
CATEGORIES:Music
ATTACH;FMTTYPE=image/jpeg:https://artsalliancedavis.org/wp-content/uploads/2025/05/Spruce-Ritual-and-Integration-Ensemble-mnmPqn.tmp_.jpg
ORGANIZER;CN="Watermelon Music":MAILTO:watermelonmusicdavis@gmail.com
END:VEVENT
END:VCALENDAR