BEGIN:VCALENDAR
VERSION:2.0
PRODID:-//Arts Alliance Davis - ECPv6.15.20//NONSGML v1.0//EN
CALSCALE:GREGORIAN
METHOD:PUBLISH
X-WR-CALNAME:Arts Alliance Davis
X-ORIGINAL-URL:https://artsalliancedavis.org
X-WR-CALDESC:Events for Arts Alliance Davis
REFRESH-INTERVAL;VALUE=DURATION:PT1H
X-Robots-Tag:noindex
X-PUBLISHED-TTL:PT1H
BEGIN:VTIMEZONE
TZID:America/Los_Angeles
BEGIN:DAYLIGHT
TZOFFSETFROM:-0800
TZOFFSETTO:-0700
TZNAME:PDT
DTSTART:20240310T100000
END:DAYLIGHT
BEGIN:STANDARD
TZOFFSETFROM:-0700
TZOFFSETTO:-0800
TZNAME:PST
DTSTART:20241103T090000
END:STANDARD
BEGIN:DAYLIGHT
TZOFFSETFROM:-0800
TZOFFSETTO:-0700
TZNAME:PDT
DTSTART:20250309T100000
END:DAYLIGHT
BEGIN:STANDARD
TZOFFSETFROM:-0700
TZOFFSETTO:-0800
TZNAME:PST
DTSTART:20251102T090000
END:STANDARD
BEGIN:DAYLIGHT
TZOFFSETFROM:-0800
TZOFFSETTO:-0700
TZNAME:PDT
DTSTART:20260308T100000
END:DAYLIGHT
BEGIN:STANDARD
TZOFFSETFROM:-0700
TZOFFSETTO:-0800
TZNAME:PST
DTSTART:20261101T090000
END:STANDARD
END:VTIMEZONE
BEGIN:VEVENT
DTSTART;TZID=America/Los_Angeles:20250510T170000
DTEND;TZID=America/Los_Angeles:20250510T180000
DTSTAMP:20260424T143922
CREATED:20250430T112147Z
LAST-MODIFIED:20250430T112147Z
UID:19236-1746896400-1746900000@artsalliancedavis.org
SUMMARY:Celebrate Mother’s Day Sound Bath Event
DESCRIPTION:Please join Mei and enjoy an amazing Sound Bath experience at the beautiful Barefoot space to celebrate Mother’s Day. Sound bath is an ancient practice designed to bring deep relaxation and meditation. It uses a variety of instruments\, including Himalayan singing bowls\, crystal bowls\, gongs\, chimes\, and human voice\, to create a landscape of sound that washes over you. Just lie down\, close your eyes\, and let the sound waves bring you to a deep sense of meditative relaxation. \nNo experience is needed; bring your mom\, family\, and friends\, a yoga mat\, an eye pillow\, and enjoy!
URL:https://artsalliancedavis.org/event/celebrate-mothers-day-sound-bath-event/
LOCATION:Barefoot Yoga Studio Davis\, 1015 Olive Dr\,\, Davis\, 95616\, United States
CATEGORIES:Music
ATTACH;FMTTYPE=image/jpeg:https://artsalliancedavis.org/wp-content/uploads/2025/04/sound-poster-Wawy3i.tmp_.jpg
ORGANIZER;CN="Barefoot Yoga Studio Davis":MAILTO:info@barefootyogadavis.com
END:VEVENT
BEGIN:VEVENT
DTSTART;TZID=America/Los_Angeles:20250514T170000
DTEND;TZID=America/Los_Angeles:20250514T200000
DTSTAMP:20260424T143922
CREATED:20250313T161736Z
LAST-MODIFIED:20250313T161736Z
UID:18252-1747242000-1747252800@artsalliancedavis.org
SUMMARY:Fit4Mom Yoga Night
DESCRIPTION:GREAT BEAR VINEYARDS. Back by popular demand\, Fit4Mom Davis-Woodland & Great Bear are teaming up to offer an evening with yoga & wine. Our talented Fit4Mom Davis-Woodland instructors\, Anais Foley-Kennedy & Maria Perez lead an easy to moderate Vinyasa flow set to groovy toons & tailored to your skill level. As yoga draws to a close\, we will read an inspirational\, original meditation from local writer\, Jessica Guerrieri. You can walk in the lavender fields\, set up a picnic\, or simply socialize with new & old friends. 6p – 8p. $20. 
URL:https://artsalliancedavis.org/event/fit4mom-yoga-night/
LOCATION:Great Bear Vineyards (Great Bear)\, 24800 County Rd 101A
CATEGORIES:Athletics,Community,Fitness,Food & Drink
ATTACH;FMTTYPE=image/png:https://artsalliancedavis.org/wp-content/uploads/2025/03/Fit4Mom-Yoga-Night-Thumbnail-BbbdC7.tmp_.png
ORGANIZER;CN="Great Bear Vineyards":MAILTO:greatbearvineyards@gmail.com
END:VEVENT
BEGIN:VEVENT
DTSTART;TZID=America/Los_Angeles:20250530T180000
DTEND;TZID=America/Los_Angeles:20250530T190000
DTSTAMP:20260424T143922
CREATED:20250417T172240Z
LAST-MODIFIED:20250417T172240Z
UID:18986-1748628000-1748631600@artsalliancedavis.org
SUMMARY:Lavender Field Yoga Class
DESCRIPTION:May 30\, Friday 6-7pm – Lavender Field Yoga Class \nTicket Includes: 1 hour yoga class and a glass of wine to enjoy after class at our beautiful vineyard. \nThe perfect way to kick-off our Lavender Weekend! Join us for a magical Lavender Field Yoga Class at Great Bear! \nFlow through a gentle yoga session surrounded by fragrant lavender – just before harvest\, when the aromas are at their peak. Let nature ground you\, calm you and uplift your spirit. \nBring your mat\, your breath\, and your love for wine and lavender!
URL:https://artsalliancedavis.org/event/lavender-field-yoga-class/
LOCATION:Great Bear Vineyards (Great Bear)\, 24800 County Rd 101A
CATEGORIES:Fitness,Food & Drink,Outside
ATTACH;FMTTYPE=image/png:https://artsalliancedavis.org/wp-content/uploads/2025/04/Lavender-Yoga-Thumbnail-5lorRj.tmp_.png
ORGANIZER;CN="Great Bear Vineyards":MAILTO:greatbearvineyards@gmail.com
END:VEVENT
END:VCALENDAR