BEGIN:VCALENDAR
VERSION:2.0
PRODID:-//Arts Alliance Davis - ECPv6.15.20//NONSGML v1.0//EN
CALSCALE:GREGORIAN
METHOD:PUBLISH
X-WR-CALNAME:Arts Alliance Davis
X-ORIGINAL-URL:https://artsalliancedavis.org
X-WR-CALDESC:Events for Arts Alliance Davis
REFRESH-INTERVAL;VALUE=DURATION:PT1H
X-Robots-Tag:noindex
X-PUBLISHED-TTL:PT1H
BEGIN:VTIMEZONE
TZID:America/Los_Angeles
BEGIN:DAYLIGHT
TZOFFSETFROM:-0800
TZOFFSETTO:-0700
TZNAME:PDT
DTSTART:20240310T100000
END:DAYLIGHT
BEGIN:STANDARD
TZOFFSETFROM:-0700
TZOFFSETTO:-0800
TZNAME:PST
DTSTART:20241103T090000
END:STANDARD
BEGIN:DAYLIGHT
TZOFFSETFROM:-0800
TZOFFSETTO:-0700
TZNAME:PDT
DTSTART:20250309T100000
END:DAYLIGHT
BEGIN:STANDARD
TZOFFSETFROM:-0700
TZOFFSETTO:-0800
TZNAME:PST
DTSTART:20251102T090000
END:STANDARD
BEGIN:DAYLIGHT
TZOFFSETFROM:-0800
TZOFFSETTO:-0700
TZNAME:PDT
DTSTART:20260308T100000
END:DAYLIGHT
BEGIN:STANDARD
TZOFFSETFROM:-0700
TZOFFSETTO:-0800
TZNAME:PST
DTSTART:20261101T090000
END:STANDARD
END:VTIMEZONE
BEGIN:VEVENT
DTSTART;TZID=America/Los_Angeles:20251109T193000
DTEND;TZID=America/Los_Angeles:20251109T203000
DTSTAMP:20260424T054216
CREATED:20251022T155053Z
LAST-MODIFIED:20251022T155053Z
UID:21064-1762716600-1762720200@artsalliancedavis.org
SUMMARY:Sound Bath at Yoga Yolo
DESCRIPTION:Join Kim Hope of Sacred Soul Vibrations for a gentle sound immersion where tones of crystal singing bowls\, chimes\, and grounding frequencies invite deep relaxation. This is an opportunity to regulate the nervous system\, release tension and rest in presence.
URL:https://artsalliancedavis.org/event/sound-bath-at-yoga-yolo/
LOCATION:Yoga Yolo\, 1837 E Gibson Road Suite I\, Woodland\, C\, 95776-5378\, United States
CATEGORIES:Community,Music
ATTACH;FMTTYPE=image/jpeg:https://artsalliancedavis.org/wp-content/uploads/2025/10/IMG_5798-1-TtAUvR.jpg
ORGANIZER;CN="Yoga Yolo":MAILTO:hello@yogayolowoodland.com
END:VEVENT
BEGIN:VEVENT
DTSTART;TZID=America/Los_Angeles:20251115T110000
DTEND;TZID=America/Los_Angeles:20251115T120000
DTSTAMP:20260424T054216
CREATED:20251030T192514Z
LAST-MODIFIED:20251030T192514Z
UID:21898-1763204400-1763208000@artsalliancedavis.org
SUMMARY:Yoga & Wine
DESCRIPTION:Yoga & Wine\nSaturday\, November 15 | 11am–12pm \nTicket includes: Relaxing Yoga Class & Glass of Wine \nUnwind and restore with a serene Yin Yoga session set against the peaceful backdrop of our picturesque winery. Join us on Saturday morning for a slow\, meditative practice designed to release tension\, improve flexibility\, and promote deep relaxation.\nLed by our experienced instructor\, Johanna\, this class will guide you through gentle\, long-held poses that allow you to surrender and reset. Perfect for all levels. After class\, enjoy a glass of wine\, savoring the flavors while soaking in the tranquil vineyard views.\nBring your mat\, your breath\, and your love for good wine. This is your time to slow down\, stretch\, and sip. Reserve your spot today!
URL:https://artsalliancedavis.org/event/yoga-wine/
LOCATION:Great Bear Vineyards (Great Bear)\, 24800 County Rd 101A
CATEGORIES:Fitness,Food & Drink
ATTACH;FMTTYPE=image/png:https://artsalliancedavis.org/wp-content/uploads/2025/10/Yoga-Class-Thumbnail-vhrfdo.png
ORGANIZER;CN="Great Bear Vineyards":MAILTO:greatbearvineyards@gmail.com
END:VEVENT
END:VCALENDAR