BEGIN:VCALENDAR
VERSION:2.0
PRODID:-//Arts Alliance Davis - ECPv6.15.20//NONSGML v1.0//EN
CALSCALE:GREGORIAN
METHOD:PUBLISH
X-ORIGINAL-URL:https://artsalliancedavis.org
X-WR-CALDESC:Events for Arts Alliance Davis
REFRESH-INTERVAL;VALUE=DURATION:PT1H
X-Robots-Tag:noindex
X-PUBLISHED-TTL:PT1H
BEGIN:VTIMEZONE
TZID:America/Los_Angeles
BEGIN:DAYLIGHT
TZOFFSETFROM:-0800
TZOFFSETTO:-0700
TZNAME:PDT
DTSTART:20240310T100000
END:DAYLIGHT
BEGIN:STANDARD
TZOFFSETFROM:-0700
TZOFFSETTO:-0800
TZNAME:PST
DTSTART:20241103T090000
END:STANDARD
BEGIN:DAYLIGHT
TZOFFSETFROM:-0800
TZOFFSETTO:-0700
TZNAME:PDT
DTSTART:20250309T100000
END:DAYLIGHT
BEGIN:STANDARD
TZOFFSETFROM:-0700
TZOFFSETTO:-0800
TZNAME:PST
DTSTART:20251102T090000
END:STANDARD
BEGIN:DAYLIGHT
TZOFFSETFROM:-0800
TZOFFSETTO:-0700
TZNAME:PDT
DTSTART:20260308T100000
END:DAYLIGHT
BEGIN:STANDARD
TZOFFSETFROM:-0700
TZOFFSETTO:-0800
TZNAME:PST
DTSTART:20261101T090000
END:STANDARD
END:VTIMEZONE
BEGIN:VEVENT
DTSTART;TZID=America/Los_Angeles:20251214T193000
DTEND;TZID=America/Los_Angeles:20251214T203000
DTSTAMP:20260423T192009
CREATED:20251022T160501Z
LAST-MODIFIED:20251022T160501Z
UID:21367-1765740600-1765744200@artsalliancedavis.org
SUMMARY:Sound Bath at Yoga Yolo
DESCRIPTION:Join Kim Hope of Sacred Soul Vibrations for a gentle sound immersion where tones of crystal singing bowls\, chimes\, and grounding frequencies invite deep relaxation. This is an opportunity to regulate the nervous system\, release tension and rest in presence.
URL:https://artsalliancedavis.org/event/sound-bath-at-yoga-yolo-2/
LOCATION:Yoga Yolo\, 1837 E Gibson Road Suite I\, Woodland\, C\, 95776-5378\, United States
CATEGORIES:Community,Music
ATTACH;FMTTYPE=image/jpeg:https://artsalliancedavis.org/wp-content/uploads/2025/10/IMG_5798-1-TtAUvR.jpg
ORGANIZER;CN="Yoga Yolo":MAILTO:hello@yogayolowoodland.com
END:VEVENT
END:VCALENDAR