BEGIN:VCALENDAR
VERSION:2.0
PRODID:-//Arts Alliance Davis - ECPv6.15.20//NONSGML v1.0//EN
CALSCALE:GREGORIAN
METHOD:PUBLISH
X-WR-CALNAME:Arts Alliance Davis
X-ORIGINAL-URL:https://artsalliancedavis.org
X-WR-CALDESC:Events for Arts Alliance Davis
REFRESH-INTERVAL;VALUE=DURATION:PT1H
X-Robots-Tag:noindex
X-PUBLISHED-TTL:PT1H
BEGIN:VTIMEZONE
TZID:America/Los_Angeles
BEGIN:DAYLIGHT
TZOFFSETFROM:-0800
TZOFFSETTO:-0700
TZNAME:PDT
DTSTART:20250309T100000
END:DAYLIGHT
BEGIN:STANDARD
TZOFFSETFROM:-0700
TZOFFSETTO:-0800
TZNAME:PST
DTSTART:20251102T090000
END:STANDARD
BEGIN:DAYLIGHT
TZOFFSETFROM:-0800
TZOFFSETTO:-0700
TZNAME:PDT
DTSTART:20260308T100000
END:DAYLIGHT
BEGIN:STANDARD
TZOFFSETFROM:-0700
TZOFFSETTO:-0800
TZNAME:PST
DTSTART:20261101T090000
END:STANDARD
BEGIN:DAYLIGHT
TZOFFSETFROM:-0800
TZOFFSETTO:-0700
TZNAME:PDT
DTSTART:20270314T100000
END:DAYLIGHT
BEGIN:STANDARD
TZOFFSETFROM:-0700
TZOFFSETTO:-0800
TZNAME:PST
DTSTART:20271107T090000
END:STANDARD
END:VTIMEZONE
BEGIN:VEVENT
DTSTART;TZID=America/Los_Angeles:20260620T150000
DTEND;TZID=America/Los_Angeles:20260620T163000
DTSTAMP:20260424T014437
CREATED:20260422T234637Z
LAST-MODIFIED:20260422T234637Z
UID:24956-1781967600-1781973000@artsalliancedavis.org
SUMMARY:Family Yoga Workshop
DESCRIPTION:This family yoga workshop with Teacher Jaclyn will include a guided meditation\, breathwork\, games\, storytelling\, and asanas (yoga poses). We will do some fun partner and group poses. Families will leave the workshop with some new playful ways to enjoy yoga together! Ages 4-12 with their caregiver(s). $25 for one caregiver and one child. Each additional family member $10. \n 
URL:https://artsalliancedavis.org/event/family-yoga-workshop/
LOCATION:Yoga Yolo\, 1837 E Gibson Road Suite I\, Woodland\, C\, 95776-5378\, United States
CATEGORIES:Fitness
ATTACH;FMTTYPE=image/jpeg:https://artsalliancedavis.org/wp-content/uploads/2026/04/IMG_7047-We7ZCJ.jpg
ORGANIZER;CN="Yoga Yolo":MAILTO:hello@yogayolowoodland.com
END:VEVENT
END:VCALENDAR